inSilicoDb 0.99.3 Jonatan Taminau , David Steenhoff
| Snapshot Date: 2011-07-06 19:21:50 -0700 (Wed, 06 Jul 2011) | | URL: https://hedgehog.fhcrc.org/bioconductor/trunk/madman/Rpacks/inSilicoDb | | Last Changed Rev: 56549 / Revision: 56603 | | Last Changed Date: 2011-07-05 01:26:02 -0700 (Tue, 05 Jul 2011) |
| wilson2 | Linux (openSUSE 11.4) / x86_64 | OK | OK | |
| liverpool | Windows Server 2003 R2 (32-bit) / x64 | OK | OK | [ OK ] |
| gewurz | Windows Server 2008 R2 Enterprise (64-bit) / x64 | OK | OK | OK |
| moscato1 | Windows Server 2008 R2 Enterprise (64-bit) / x64 | OK | OK | OK |
| pitt | Mac OS X Leopard (10.5.8) / i386 | OK | OK | OK |
* installing *source* package 'inSilicoDb' ...
** R
** inst
** preparing package for lazy loading
Welcome to Bioconductor
Vignettes contain introductory material. To view, type
'browseVignettes()'. To cite Bioconductor, see
'citation("Biobase")' and for packages 'citation("pkgname")'.
** help
*** installing help indices
** building package indices ...
*** tangling vignette sources ...
'inSilicoDb.Rnw'
** testing if installed package can be loaded
* MD5 sums
packaged installation of 'inSilicoDb' as inSilicoDb_0.99.3.zip
* DONE (inSilicoDb)