| name | user | system | elapsed
|
| CytoscapeConnection | 0.13 | 0.03 | 0.49 |
|
| CytoscapeConnectionClass-class | 0 | 0 | 0 |
|
| CytoscapeWindow | 0.03 | 0.01 | 0.11 |
|
| CytoscapeWindowClass-class | 0.09 | 0.02 | 0.17 |
|
| addCyEdge | 0.34 | 0.00 | 6.75 |
|
| addCyNode | 0.29 | 0.02 | 6.70 |
|
| addGraphToGraph | 0.45 | 0.00 | 9.20 |
|
| clearMsg | 0.00 | 0.00 | 0.02 |
|
| clearSelection | 0.27 | 0.03 | 6.53 |
|
| copyVisualStyle | 0.34 | 0.03 | 7.73 |
|
| createWindowFromSelection | 1.28 | 0.01 | 8.58 |
|
| cy2.edge.names | 0.02 | 0.00 | 0.02 |
|
| deleteAllWindows | 0.30 | 0.00 | 1.37 |
|
| deleteEdgeAttribute | 0.25 | 0.02 | 6.69 |
|
| deleteNodeAttribute | 0.26 | 0.00 | 6.69 |
|
| deleteSelectedEdges | 0.30 | 0.03 | 6.78 |
|
| deleteSelectedNodes | 0.30 | 0.02 | 6.72 |
|
| deleteWindow | 0.29 | 0.04 | 6.92 |
|
| displayGraph | 0.28 | 0.00 | 6.65 |
|
| dockPanel | 0.02 | 0.00 | 0.07 |
|
| eda | 0.02 | 0.00 | 0.01 |
|
| eda.names | 0.01 | 0.00 | 0.02 |
|
| existing.CytoscapeWindow | 0.97 | 0.07 | 7.78 |
|
| fitContent | 0.27 | 0.00 | 6.76 |
|
| fitSelectedContent | 0.28 | 0.00 | 6.83 |
|
| floatPanel | 0.01 | 0.00 | 0.13 |
|
| getAllEdgeAttributes | 0.27 | 0.01 | 6.64 |
|
| getAllEdges | 0.09 | 0.02 | 0.12 |
|
| getAllNodeAttributes | 0.30 | 0.01 | 6.61 |
|
| getAllNodes | 0.08 | 0.00 | 0.17 |
|
| getArrowShapes | 0.00 | 0.00 | 0.02 |
|
| getAttributeClassNames | 0 | 0 | 0 |
|
| getCenter | 0.31 | 0.00 | 6.70 |
|
| getDefaultBackgroundColor | 0.02 | 0.00 | 0.02 |
|
| getDefaultEdgeReverseSelectionColor | 0.01 | 0.00 | 0.03 |
|
| getDefaultEdgeSelectionColor | 0.00 | 0.00 | 0.02 |
|
| getDefaultNodeReverseSelectionColor | 0.00 | 0.00 | 0.01 |
|
| getDefaultNodeSelectionColor | 0.00 | 0.00 | 0.02 |
|
| getDirectlyModifiableVisualProperties | 0.02 | 0.02 | 0.03 |
|
| getEdgeAttribute | 0.28 | 0.00 | 6.64 |
|
| getEdgeAttributeNames | 0.00 | 0.00 | 0.01 |
|
| getEdgeCount | 0.34 | 0.01 | 6.68 |
|
| getFirstNeighbors | 0.36 | 0.00 | 6.81 |
|
| getGraph | 0.17 | 0.00 | 0.20 |
|
| getGraphFromCyWindow | 0.89 | 0.10 | 7.89 |
|
| getLayoutNameMapping | 0.05 | 0.00 | 0.05 |
|
| getLayoutNames | 0.02 | 0.00 | 0.02 |
|
| getLayoutPropertyNames | 0.01 | 0.00 | 0.01 |
|
| getLayoutPropertyType | 0.13 | 0.00 | 0.13 |
|
| getLayoutPropertyValue | 0.06 | 0.01 | 0.15 |
|
| getLineStyles | 0.01 | 0.00 | 0.02 |
|
| getNodeAttribute | 0.27 | 0.02 | 6.67 |
|
| getNodeAttributeNames | 0.02 | 0.00 | 0.02 |
|
| getNodeCount | 0.29 | 0.01 | 6.71 |
|
| getNodeShapes | 0.00 | 0.00 | 0.02 |
|
| getPosition | 0.30 | 0.02 | 6.67 |
|
| getSelectedEdgeCount | 0.32 | 0.00 | 6.81 |
|
| getSelectedEdges | 0.3 | 0.0 | 6.7 |
|
| getSelectedNodeCount | 0.36 | 0.00 | 6.80 |
|
| getSelectedNodes | 0.36 | 0.02 | 6.75 |
|
| getViewCoordinates | 0.31 | 0.00 | 6.77 |
|
| getVisualStyleNames | 0.00 | 0.00 | 0.03 |
|
| getWindowCount | 0.27 | 0.00 | 0.39 |
|
| getWindowID | 0.39 | 0.00 | 6.56 |
|
| getWindowList | 0.09 | 0.00 | 0.11 |
|
| getZoom | 0.35 | 0.00 | 6.76 |
|
| hideAllPanels | 0.14 | 0.00 | 0.55 |
|
| hideNodes | 0.15 | 0.00 | 0.30 |
|
| hidePanel | 0.02 | 0.00 | 0.05 |
|
| hideSelectedEdges | 0.17 | 0.00 | 0.57 |
|
| hideSelectedNodes | 0.22 | 0.00 | 0.60 |
|
| initEdgeAttribute | 0 | 0 | 0 |
|
| initNodeAttribute | 0 | 0 | 0 |
|
| invertEdgeSelection | 0.17 | 0.00 | 0.25 |
|
| invertNodeSelection | 0.19 | 0.00 | 0.28 |
|
| layout | 0.37 | 0.00 | 6.83 |
|
| lockNodeDimensions | 0.36 | 0.00 | 6.89 |
|
| makeRandomGraph | 0.02 | 0.00 | 0.01 |
|
| makeSimpleGraph | 0.03 | 0.00 | 0.03 |
|
| msg | 0.01 | 0.00 | 0.02 |
|
| new.CytoscapeWindow | 0.15 | 0.00 | 0.19 |
|
| noa | 0.01 | 0.00 | 0.01 |
|
| noa.names | 0.02 | 0.00 | 0.02 |
|
| ping | 0.01 | 0.00 | 0.01 |
|
| raiseWindow | 0.16 | 0.00 | 0.22 |
|
| redraw | 0.15 | 0.01 | 0.24 |
|
| saveImage | 0.36 | 0.00 | 6.81 |
|
| saveNetwork | 0.38 | 0.00 | 6.77 |
|
| selectEdges | 0.39 | 0.02 | 6.98 |
|
| selectFirstNeighborsOfSelectedNodes | 0.50 | 0.03 | 7.09 |
|
| selectNodes | 0.20 | 0.00 | 0.36 |
|
| sendEdges | 0.17 | 0.00 | 2.24 |
|
| sendNodes | 0.19 | 0.00 | 0.22 |
|
| setCenter | 0.41 | 0.00 | 12.71 |
|
| setDefaultBackgroundColor | 0.00 | 0.00 | 0.02 |
|
| setDefaultEdgeColor | 0.37 | 0.01 | 6.80 |
|
| setDefaultEdgeLineWidth | 0.36 | 0.00 | 6.81 |
|
| setDefaultEdgeReverseSelectionColor | 0.00 | 0.02 | 0.03 |
|
| setDefaultEdgeSelectionColor | 0.00 | 0.00 | 0.02 |
|
| setDefaultNodeBorderColor | 0.38 | 0.00 | 6.82 |
|
| setDefaultNodeBorderWidth | 0.34 | 0.00 | 6.77 |
|
| setDefaultNodeColor | 0.39 | 0.00 | 6.83 |
|
| setDefaultNodeFontSize | 0.39 | 0.00 | 6.83 |
|
| setDefaultNodeLabelColor | 0.42 | 0.00 | 6.78 |
|
| setDefaultNodeReverseSelectionColor | 0.02 | 0.00 | 0.03 |
|
| setDefaultNodeSelectionColor | 0.00 | 0.00 | 0.01 |
|
| setDefaultNodeShape | 0.42 | 0.00 | 6.80 |
|
| setDefaultNodeSize | 0.44 | 0.00 | 6.81 |
|
| setEdgeAttributes | 0.23 | 0.02 | 4.39 |
|
| setEdgeAttributesDirect | 0.24 | 0.00 | 2.29 |
|
| setEdgeColorDirect | 0.44 | 0.00 | 6.93 |
|
| setEdgeColorRule | 0.29 | 0.00 | 7.35 |
|
| setEdgeFontSizeDirect | 0.91 | 0.06 | 8.12 |
|
| setEdgeLabelColorDirect | 0.50 | 0.03 | 7.03 |
|
| setEdgeLabelDirect | 1.00 | 0.01 | 7.86 |
|
| setEdgeLabelOpacityDirect | 0.83 | 0.04 | 8.08 |
|
| setEdgeLabelRule | 0.42 | 0.00 | 6.84 |
|
| setEdgeLabelWidthDirect | 0.98 | 0.04 | 8.08 |
|
| setEdgeLineStyleDirect | 0.88 | 0.02 | 8.14 |
|
| setEdgeLineStyleRule | 0.26 | 0.00 | 2.30 |
|
| setEdgeLineWidthDirect | 0.64 | 0.03 | 7.66 |
|
| setEdgeLineWidthRule | 0.41 | 0.00 | 8.92 |
|
| setEdgeOpacityDirect | 0.84 | 0.06 | 8.05 |
|
| setEdgeSourceArrowColorDirect | 0.60 | 0.03 | 15.17 |
|
| setEdgeSourceArrowColorRule | 0.26 | 0.00 | 2.33 |
|
| setEdgeSourceArrowOpacityDirect | 0.72 | 0.03 | 14.56 |
|
| setEdgeSourceArrowRule | 0.32 | 0.02 | 2.40 |
|
| setEdgeSourceArrowShapeDirect | 0.82 | 0.02 | 16.66 |
|
| setEdgeTargetArrowColorDirect | 0.68 | 0.01 | 15.27 |
|
| setEdgeTargetArrowColorRule | 0.28 | 0.00 | 2.34 |
|
| setEdgeTargetArrowOpacityDirect | 0.79 | 0.08 | 7.64 |
|
| setEdgeTargetArrowRule | 0.30 | 0.00 | 2.36 |
|
| setEdgeTargetArrowShapeDirect | 0.73 | 0.05 | 16.77 |
|
| setEdgeTooltipDirect | 0.60 | 0.00 | 8.15 |
|
| setEdgeTooltipRule | 0.47 | 0.00 | 9.05 |
|
| setGraph | 0.29 | 0.01 | 0.36 |
|
| setLayoutProperties | 0.05 | 0.02 | 0.11 |
|
| setNodeAttributes | 0.33 | 0.00 | 0.48 |
|
| setNodeBorderColorRule | 0.45 | 0.00 | 4.53 |
|
| setNodeBorderOpacityDirect | 0.49 | 0.00 | 7.05 |
|
| setNodeBorderWidthRule | 0.48 | 0.00 | 8.98 |
|
| setNodeColorDirect | 0.49 | 0.03 | 6.96 |
|
| setNodeColorRule | 0.34 | 0.00 | 4.45 |
|
| setNodeFillOpacityDirect | 0.50 | 0.03 | 7.05 |
|
| setNodeFontSizeDirect | 0.44 | 0.02 | 7.00 |
|
| setNodeHeightDirect | 0.51 | 0.01 | 6.98 |
|
| setNodeImageDirect | 0.52 | 0.02 | 6.99 |
|
| setNodeLabelDirect | 0.54 | 0.00 | 7.04 |
|
| setNodeLabelOpacityDirect | 0.54 | 0.03 | 6.91 |
|
| setNodeLabelRule | 0.64 | 0.00 | 7.11 |
|
| setNodeOpacityDirect | 0.51 | 0.00 | 6.98 |
|
| setNodeShapeDirect | 0.53 | 0.00 | 7.07 |
|
| setNodeShapeRule | 0.35 | 0.01 | 2.42 |
|
| setNodeSizeDirect | 0.56 | 0.02 | 6.93 |
|
| setNodeSizeRule | 0.64 | 0.02 | 13.02 |
|
| setNodeTooltipRule | 0.59 | 0.01 | 12.98 |
|
| setNodeWidthDirect | 0.56 | 0.02 | 7.17 |
|
| setNotAttributesDirect | 0.38 | 0.00 | 0.41 |
|
| setPosition | 0.56 | 0.00 | 8.94 |
|
| setVisualStyle | 0.75 | 0.06 | 10.98 |
|
| setWindowSize | 0.62 | 0.00 | 9.53 |
|
| setZoom | 0.61 | 0.00 | 9.30 |
|
| showGraphicsDetails | 0.00 | 0.00 | 0.01 |
|
| unhideAll | 0.61 | 0.00 | 7.10 |
|
| unhideNodes | 0.41 | 0.01 | 1.67 |
|
| validCyWin | 0.36 | 0.00 | 0.42 |
|
| version | 0.00 | 0.00 | 0.02 |
|