| name | user | system | elapsed
|
| CytoscapeConnection | 0.18 | 0.03 | 1.20 |
|
| CytoscapeConnectionClass-class | 0 | 0 | 0 |
|
| CytoscapeWindow | 0.06 | 0.00 | 0.10 |
|
| CytoscapeWindowClass-class | 0.08 | 0.00 | 0.11 |
|
| addCyEdge | 0.31 | 0.00 | 6.64 |
|
| addCyNode | 0.26 | 0.01 | 6.58 |
|
| addGraphToGraph | 0.41 | 0.02 | 8.97 |
|
| clearMsg | 0.01 | 0.00 | 0.02 |
|
| clearSelection | 0.28 | 0.02 | 6.42 |
|
| copyVisualStyle | 0.35 | 0.01 | 7.51 |
|
| createWindowFromSelection | 1.28 | 0.11 | 8.14 |
|
| cy2.edge.names | 0.01 | 0.00 | 0.02 |
|
| deleteAllWindows | 0.35 | 0.00 | 1.23 |
|
| deleteEdgeAttribute | 0.29 | 0.02 | 6.58 |
|
| deleteNodeAttribute | 0.27 | 0.00 | 6.58 |
|
| deleteSelectedEdges | 0.28 | 0.01 | 6.66 |
|
| deleteSelectedNodes | 0.34 | 0.00 | 6.72 |
|
| deleteWindow | 0.40 | 0.00 | 6.79 |
|
| displayGraph | 0.28 | 0.00 | 6.55 |
|
| dockPanel | 0.03 | 0.00 | 0.06 |
|
| eda | 0.03 | 0.00 | 0.03 |
|
| eda.names | 0.01 | 0.00 | 0.02 |
|
| existing.CytoscapeWindow | 0.9 | 0.0 | 7.2 |
|
| fitContent | 0.31 | 0.00 | 6.64 |
|
| fitSelectedContent | 0.30 | 0.03 | 6.61 |
|
| floatPanel | 0.03 | 0.00 | 0.06 |
|
| getAllEdgeAttributes | 0.27 | 0.03 | 6.58 |
|
| getAllEdges | 0.09 | 0.00 | 0.14 |
|
| getAllNodeAttributes | 0.24 | 0.00 | 6.56 |
|
| getAllNodes | 0.09 | 0.00 | 0.17 |
|
| getArrowShapes | 0.01 | 0.00 | 0.02 |
|
| getAttributeClassNames | 0 | 0 | 0 |
|
| getCenter | 0.32 | 0.00 | 6.67 |
|
| getDefaultBackgroundColor | 0.01 | 0.00 | 0.02 |
|
| getDefaultEdgeReverseSelectionColor | 0.02 | 0.00 | 0.01 |
|
| getDefaultEdgeSelectionColor | 0 | 0 | 0 |
|
| getDefaultNodeReverseSelectionColor | 0.01 | 0.00 | 0.02 |
|
| getDefaultNodeSelectionColor | 0.02 | 0.00 | 0.01 |
|
| getDirectlyModifiableVisualProperties | 0.03 | 0.00 | 0.03 |
|
| getEdgeAttribute | 0.33 | 0.00 | 6.63 |
|
| getEdgeAttributeNames | 0.01 | 0.00 | 0.03 |
|
| getEdgeCount | 0.35 | 0.00 | 6.63 |
|
| getFirstNeighbors | 0.37 | 0.02 | 6.68 |
|
| getGraph | 0.16 | 0.00 | 0.19 |
|
| getGraphFromCyWindow | 1.05 | 0.02 | 7.52 |
|
| getLayoutNameMapping | 0.03 | 0.00 | 0.03 |
|
| getLayoutNames | 0.01 | 0.00 | 0.01 |
|
| getLayoutPropertyNames | 0.02 | 0.00 | 0.02 |
|
| getLayoutPropertyType | 0.11 | 0.00 | 0.11 |
|
| getLayoutPropertyValue | 0.12 | 0.00 | 0.14 |
|
| getLineStyles | 0.00 | 0.00 | 0.01 |
|
| getNodeAttribute | 0.32 | 0.00 | 6.58 |
|
| getNodeAttributeNames | 0.01 | 0.00 | 0.02 |
|
| getNodeCount | 0.24 | 0.01 | 6.59 |
|
| getNodeShapes | 0.01 | 0.00 | 0.02 |
|
| getPosition | 0.28 | 0.03 | 6.58 |
|
| getSelectedEdgeCount | 0.36 | 0.00 | 6.71 |
|
| getSelectedEdges | 0.31 | 0.00 | 6.60 |
|
| getSelectedNodeCount | 0.35 | 0.00 | 6.62 |
|
| getSelectedNodes | 0.34 | 0.02 | 6.67 |
|
| getViewCoordinates | 0.28 | 0.00 | 6.63 |
|
| getVisualStyleNames | 0.02 | 0.00 | 0.02 |
|
| getWindowCount | 0.26 | 0.01 | 0.35 |
|
| getWindowID | 0.40 | 0.00 | 6.47 |
|
| getWindowList | 0.10 | 0.00 | 0.11 |
|
| getZoom | 0.35 | 0.00 | 6.64 |
|
| hideAllPanels | 0.23 | 0.04 | 0.43 |
|
| hideNodes | 0.19 | 0.01 | 0.23 |
|
| hidePanel | 0.03 | 0.00 | 0.03 |
|
| hideSelectedEdges | 0.19 | 0.00 | 0.52 |
|
| hideSelectedNodes | 0.23 | 0.03 | 0.56 |
|
| initEdgeAttribute | 0.02 | 0.00 | 0.01 |
|
| initNodeAttribute | 0 | 0 | 0 |
|
| invertEdgeSelection | 0.19 | 0.00 | 0.24 |
|
| invertNodeSelection | 0.17 | 0.03 | 0.25 |
|
| layout | 0.37 | 0.00 | 6.73 |
|
| lockNodeDimensions | 0.44 | 0.02 | 6.71 |
|
| makeRandomGraph | 0.02 | 0.00 | 0.01 |
|
| makeSimpleGraph | 0.03 | 0.00 | 0.03 |
|
| msg | 0 | 0 | 0 |
|
| new.CytoscapeWindow | 0.15 | 0.00 | 0.21 |
|
| noa | 0.04 | 0.00 | 0.03 |
|
| noa.names | 0.01 | 0.00 | 0.01 |
|
| ping | 0.02 | 0.00 | 0.02 |
|
| raiseWindow | 0.18 | 0.00 | 0.22 |
|
| redraw | 0.19 | 0.00 | 0.25 |
|
| saveImage | 0.38 | 0.00 | 6.67 |
|
| saveNetwork | 0.40 | 0.01 | 6.69 |
|
| selectEdges | 0.46 | 0.00 | 6.89 |
|
| selectFirstNeighborsOfSelectedNodes | 0.61 | 0.02 | 6.90 |
|
| selectNodes | 0.23 | 0.00 | 0.29 |
|
| sendEdges | 0.20 | 0.00 | 2.31 |
|
| sendNodes | 0.21 | 0.00 | 0.23 |
|
| setCenter | 0.45 | 0.00 | 12.80 |
|
| setDefaultBackgroundColor | 0.01 | 0.00 | 0.01 |
|
| setDefaultEdgeColor | 0.38 | 0.00 | 6.66 |
|
| setDefaultEdgeLineWidth | 0.39 | 0.02 | 6.75 |
|
| setDefaultEdgeReverseSelectionColor | 0.02 | 0.00 | 0.02 |
|
| setDefaultEdgeSelectionColor | 0.01 | 0.00 | 0.01 |
|
| setDefaultNodeBorderColor | 0.39 | 0.00 | 6.67 |
|
| setDefaultNodeBorderWidth | 0.36 | 0.01 | 6.69 |
|
| setDefaultNodeColor | 0.42 | 0.02 | 6.67 |
|
| setDefaultNodeFontSize | 0.43 | 0.01 | 6.74 |
|
| setDefaultNodeLabelColor | 0.40 | 0.00 | 6.67 |
|
| setDefaultNodeReverseSelectionColor | 0.02 | 0.00 | 0.02 |
|
| setDefaultNodeSelectionColor | 0.01 | 0.00 | 0.01 |
|
| setDefaultNodeShape | 0.41 | 0.02 | 6.70 |
|
| setDefaultNodeSize | 0.42 | 0.00 | 7.02 |
|
| setEdgeAttributes | 0.25 | 0.00 | 4.28 |
|
| setEdgeAttributesDirect | 0.22 | 0.00 | 2.25 |
|
| setEdgeColorDirect | 0.37 | 0.03 | 6.70 |
|
| setEdgeColorRule | 0.32 | 0.02 | 6.99 |
|
| setEdgeFontSizeDirect | 1.04 | 0.03 | 7.65 |
|
| setEdgeLabelColorDirect | 0.49 | 0.00 | 6.90 |
|
| setEdgeLabelDirect | 1.05 | 0.04 | 7.53 |
|
| setEdgeLabelOpacityDirect | 1.01 | 0.05 | 7.48 |
|
| setEdgeLabelRule | 0.42 | 0.00 | 6.68 |
|
| setEdgeLabelWidthDirect | 1.11 | 0.05 | 7.64 |
|
| setEdgeLineStyleDirect | 1.09 | 0.04 | 7.71 |
|
| setEdgeLineStyleRule | 0.25 | 0.00 | 2.31 |
|
| setEdgeLineWidthDirect | 0.70 | 0.04 | 7.14 |
|
| setEdgeLineWidthRule | 0.4 | 0.0 | 8.8 |
|
| setEdgeOpacityDirect | 1.04 | 0.09 | 7.56 |
|
| setEdgeSourceArrowColorDirect | 0.64 | 0.01 | 14.97 |
|
| setEdgeSourceArrowColorRule | 0.27 | 0.02 | 2.30 |
|
| setEdgeSourceArrowOpacityDirect | 0.78 | 0.05 | 14.25 |
|
| setEdgeSourceArrowRule | 0.28 | 0.00 | 2.32 |
|
| setEdgeSourceArrowShapeDirect | 0.94 | 0.01 | 16.33 |
|
| setEdgeTargetArrowColorDirect | 0.67 | 0.03 | 15.14 |
|
| setEdgeTargetArrowColorRule | 0.27 | 0.00 | 2.32 |
|
| setEdgeTargetArrowOpacityDirect | 0.93 | 0.00 | 7.26 |
|
| setEdgeTargetArrowRule | 0.30 | 0.00 | 2.33 |
|
| setEdgeTargetArrowShapeDirect | 0.86 | 0.02 | 16.26 |
|
| setEdgeTooltipDirect | 0.64 | 0.00 | 7.91 |
|
| setEdgeTooltipRule | 0.50 | 0.00 | 8.84 |
|
| setGraph | 0.28 | 0.00 | 0.32 |
|
| setLayoutProperties | 0.05 | 0.02 | 0.08 |
|
| setNodeAttributes | 0.34 | 0.01 | 0.39 |
|
| setNodeBorderColorRule | 0.42 | 0.03 | 4.45 |
|
| setNodeBorderOpacityDirect | 0.52 | 0.02 | 6.84 |
|
| setNodeBorderWidthRule | 0.44 | 0.00 | 8.77 |
|
| setNodeColorDirect | 0.48 | 0.00 | 6.80 |
|
| setNodeColorRule | 0.36 | 0.00 | 4.39 |
|
| setNodeFillOpacityDirect | 0.49 | 0.00 | 6.90 |
|
| setNodeFontSizeDirect | 0.46 | 0.00 | 6.81 |
|
| setNodeHeightDirect | 0.49 | 0.00 | 6.80 |
|
| setNodeImageDirect | 0.56 | 0.01 | 6.91 |
|
| setNodeLabelDirect | 0.49 | 0.02 | 6.94 |
|
| setNodeLabelOpacityDirect | 0.56 | 0.00 | 6.87 |
|
| setNodeLabelRule | 0.69 | 0.01 | 7.06 |
|
| setNodeOpacityDirect | 0.57 | 0.02 | 6.89 |
|
| setNodeShapeDirect | 0.57 | 0.01 | 7.00 |
|
| setNodeShapeRule | 0.39 | 0.00 | 2.41 |
|
| setNodeSizeDirect | 0.53 | 0.02 | 6.85 |
|
| setNodeSizeRule | 0.64 | 0.01 | 13.08 |
|
| setNodeTooltipRule | 0.59 | 0.03 | 12.92 |
|
| setNodeWidthDirect | 0.58 | 0.00 | 7.05 |
|
| setNotAttributesDirect | 0.41 | 0.00 | 0.44 |
|
| setPosition | 0.61 | 0.02 | 8.94 |
|
| setVisualStyle | 0.67 | 0.03 | 10.70 |
|
| setWindowSize | 0.59 | 0.03 | 9.45 |
|
| setZoom | 0.61 | 0.00 | 9.30 |
|
| showGraphicsDetails | 0.00 | 0.00 | 0.02 |
|
| unhideAll | 0.53 | 0.06 | 6.96 |
|
| unhideNodes | 0.41 | 0.02 | 1.66 |
|
| validCyWin | 0.39 | 0.00 | 0.41 |
|
| version | 0.01 | 0.00 | 0.01 |
|