facsDorit 1.4.2 Florian Hahne
 | Snapshot Date: 2010-11-11 12:27:34 -0800 (Thu, 11 Nov 2010) |  | URL: https://hedgehog.fhcrc.org/bioc-data/trunk/experiment/pkgs/facsDorit |  | Last Changed Rev: 959 / Revision: 1384 |  | Last Changed Date: 2009-09-10 11:19:18 -0700 (Thu, 10 Sep 2009) |  
  | lamb2  | Linux (openSUSE 11.2) / x86_64  |  OK  |  OK  |  | 
| liverpool  | Windows Server 2003 R2 (32-bit) / x64  | [ OK ] |  OK  |  OK  | 
| pelham  | Mac OS X Leopard (10.5.8) / i386  |  OK  |  OK  |  OK  | 
* checking for file 'facsDorit/DESCRIPTION' ... OK
* preparing 'facsDorit':
* checking DESCRIPTION meta-information ... OK
* checking for LF line-endings in source and make files
* checking for empty or unneeded directories
WARNING: directory 'facsDorit/inst/doc' is empty
* building 'facsDorit_1.4.2.tar.gz'