| Package STATUS - Package status is indicated by one of the following glyphs: |
| - TIMEOUT |
BUILD, CHECK or BUILD BIN of package took more than 40 minutes |
| - ERROR |
BUILD, CHECK or BUILD BIN of package returned an error |
| - WARNINGS |
CHECK of package produced warnings |
| - OK |
BUILD, CHECK or BUILD BIN of package was OK |
| - skipped |
CHECK or BUILD BIN of package was skipped because the BUILD step failed (or because something bad happened with the Build System itself) |
| Click on any glyph in the report below to see the status details (command output). |
| wilson1 |
Linux (openSUSE 11.1) / x86_64 | | | |
| [liverpool] |
Windows Server 2003 R2 (32-bit) / x64 | | | |
| pitt |
Mac OS X Tiger (10.4.11) / i386 | | | |
| pelham |
Mac OS X Leopard (10.5.7) / i386 | | | |
| affydata 1.11.9 | Laurent | ERROR | skipped | skipped |
| AffymetrixDataTestFiles 0.1.1 | Henrik Bengtsson | OK | OK | OK |
| ALL 1.4.6 | Xiaochun Li | ERROR | skipped | skipped |
| ALLMLL 1.2.4 | B. M. Bolstad | OK | ERROR | OK |
| AmpAffyExample 1.2.3 | Rafael A. Irizarry | OK | ERROR | ERROR |
| beta7 1.0.0 | Jean Yang | OK | OK | OK |
| bronchialIL13 1.0-4 | Vince Carey | OK | ERROR | OK |
| CCl4 1.0.8 | Audrey Kauffmann | ERROR | skipped | skipped |
| ccTutorial 1.0.9 | Joern Toedling | ERROR | skipped | skipped |
| CLL 1.2.6 | Robert Gentleman | OK | ERROR | ERROR |
| colonCA 1.4.5 | W Sylvia Merk | OK | ERROR | ERROR |
| davidTiling 1.2.10 | Wolfgang Huber | OK | ERROR | ERROR |
| dyebiasexamples 1.0.3 | Philip Lijnzaad | OK | OK | OK |
| ecoliLeucine 1.2.4 | Laurent Gautier | OK | ERROR | OK |
| encoDnaseI 0.1-1 | VJ Carey | ERROR | skipped | skipped |
| estrogen 1.8.3 | R. Gentleman | OK | OK | OK |
| faahKO 1.2.1 | Colin A. Smith | OK | OK | OK |
| facsDorit 1.4.1 | Florian Hahne | OK | OK | OK |
| fibroEset 1.4.3 | Sylvia Merk | OK | ERROR | ERROR |
| gaschYHS 1.0.1 | Vince Carey | OK | ERROR | OK |
| gatingMLData 1.0.2 | Nishant Gopalakrishnan | OK | OK | OK |
| gcspikelite 1.0.2 | Mark Robinson | OK | WARNINGS | OK |
| GenomicFeatures 0.0.6 | Deepayan Sarkar | OK | ERROR | ERROR |
| GGdata 1.0.1 | VJ Carey | OK | ERROR | ERROR |
| golubEsets 1.4.6 | Vince Carey | OK | ERROR | OK |
| hapmap100khind 1.3.2 | Benilton Carvalho | OK | OK | OK |
| hapmap100kxba 1.3.2 | Benilton Carvalho | OK | OK | OK |
| hapmap500knsp 1.3.2 | Benilton Carvalho | OK | OK | OK |
| hapmap500ksty 1.3.2 | Benilton Carvalho | OK | OK | OK |
| hapmapsnp5 1.3.2 | Benilton Carvalho | OK | OK | OK |
| hapmapsnp6 1.3.2 | Benilton Carvalho | OK | OK | OK |
| harbChIP 1.0.1 | VJ Carey | ERROR | skipped | skipped |
| HEEBOdata 1.0.0 | Agnes Paquet | OK | OK | OK |
| hgu2beta7 1.2.2 | Biocore Team c/o BioC user list | OK | OK | OK |
| HIVcDNAvantWout03 1.2.2 | Chris Fraley | OK | OK | OK |
| hmyriB36 0.99.2 | Vincent Carey | OK | ERROR | ERROR |
| humanStemCell 0.2.3 | R. Gentleman | OK | ERROR | OK |
| ITALICSData 2.0.1 | Guillem Rigaill | OK | OK | OK |
| Iyer517 1.4.3 | Vince Carey | ERROR | skipped | skipped |
| kidpack 1.5.4 | Wolfgang Huber | ERROR | skipped | skipped |
| lumiBarnes 1.3.4 | Pan Du | OK | ERROR | OK |
| lungExpression 0.0.9 | Robert Scharpf | OK | ERROR | OK |
| maqcExpression4plex 1.2 | Benilton Carvalho | OK | OK | OK |
| MAQCsubset 1.0.15 | VJ Carey | ERROR | skipped | skipped |
| MAQCsubsetAFX 1.0.1 | Laurent Gatto | ERROR | skipped | skipped |
| MAQCsubsetILM 1.0.1 | Laurent Gatto | ERROR | skipped | skipped |
| MEEBOdata 1.0.0 | Agnes Paquet | OK | OK | OK |
| msdata 0.1.3 | Steffen Neumann | OK | OK | OK |
| mvoutData 0.99.2 | VJ Carey | OK | ERROR | OK |
| Neve2006 0.1.6 | VJ Carey | OK | OK | OK |
| ppiData 0.1.13 | Tony Chiang | OK | OK | OK |
| ProData 1.0.3 | Xiaochun Li | OK | ERROR | OK |
| pumadata 1.0.2 | Richard Pearson | ERROR | skipped | skipped |
| rfcdmin 1.6.8 | N. Le Meur | OK | OK | OK |
| SNAData 1.8.1 | Denise Scholtens | OK | OK | OK |
| SpikeIn 1.4.2 | Rafael A. Irizarry | OK | ERROR | ERROR |
| SpikeInSubset 1.2.8 | Rafael A. Irizarry | OK | ERROR | ERROR |
| stjudem 1.2.0 | Joern Toedling | OK | OK | OK |
| TargetSearchData 1.0.0 | Alvaro Cuadros-Inostroza | OK | OK | OK |
| tinesath1cdf 1.0.2 | Tine Casneuf | OK | OK | OK |
| tinesath1probe 1.0.2 | Tine Casneuf | OK | OK | OK |
| XhybCasneuf 1.0.4 | Tineke Casneuf | OK | OK | OK |
| yeastCC 1.2.9 | Sandrine Dudoit | OK | ERROR | ERROR |
| yeastExpData 0.9.16 | R. Gentleman | OK | OK | OK |
| yeastGSData 0.1.4 | R. Gentleman | OK | OK | OK |