| Back to the "Multiple platform build/check report" |
| Package 65/65 | Hostname | OS / Arch | BUILD | CHECK | BUILD BIN | ||||
| yeastGSData 0.1.4 R. Gentleman
| wilson1 | Linux (openSUSE 11.1) / x86_64 | OK | OK | |||||
| liverpool | Windows Server 2003 R2 (32-bit) / x64 | [ OK ] | OK | OK | |||||
| pitt | Mac OS X Tiger (10.4.11) / i386 | OK | OK | OK | |||||
| pelham | Mac OS X Leopard (10.5.7) / i386 | OK | OK | OK |
| Package: yeastGSData |
| Version: 0.1.4 |
| Command: E:\biocbld\bbs-2.4-bioc\R\bin\R.exe CMD build yeastGSData |
| StartedAt: 2009-08-10 02:07:45 -0700 (Mon, 10 Aug 2009) |
| EndedAt: 2009-08-10 02:08:34 -0700 (Mon, 10 Aug 2009) |
| EllapsedTime: 48.5 seconds |
| RetCode: 0 |
| Status: OK |
| PackageFile: yeastGSData_0.1.4.tar.gz |
| PackageFileSize: 8.119 MiB |
* checking for file 'yeastGSData/DESCRIPTION' ... OK * preparing 'yeastGSData': * checking DESCRIPTION meta-information ... OK * removing junk files * checking for LF line-endings in source and make files * checking for empty or unneeded directories * building 'yeastGSData_0.1.4.tar.gz'