| dualKS 1.2.0 Eric J. Kort
 
 | Bioconductor Changelog |  | Snapshot Date: 2009-04-18 11:27:48 -0700 (Sat, 18 Apr 2009) |  | URL: https://hedgehog.fhcrc.org/bioconductor/branches/RELEASE_2_3/madman/Rpacks/dualKS |  | Last Changed Rev: 34811 / Revision: 38965 |  | Last Changed Date: 2008-10-21 15:32:58 -0700 (Tue, 21 Oct 2008) | 
 | wilson2 | Linux (openSUSE 11.1) / x86_64 | OK | OK |  | 
| liverpool | Windows Server 2003 R2 (32-bit) / x64 | OK | OK | OK | 
| pitt | Mac OS X Tiger (10.4.11) / i386 | OK | OK | [ OK ] | 
| pelham | Mac OS X Leopard (10.5.6) / i386 | OK | OK | OK | 
                INSTALLATION WITH 'R CMD INSTALL --library=dualKS.buildbin-libdir dualKS_1.2.0.tar.gz'
* Installing *source* package 'dualKS' ...
** R
** data
** inst
** preparing package for lazy loading
Loading required package: Biobase
Loading required package: tools
Welcome to Bioconductor
  Vignettes contain introductory material. To view, type
  'openVignette()'. To cite Bioconductor, see
  'citation("Biobase")' and for packages 'citation(pkgname)'.
Loading required package: affy
Creating a new generic function for "summary" in "dualKS"
Creating a new generic function for "plot" in "dualKS"
** help
 >>> Building/Updating help pages for package 'dualKS'
     Formats: text html latex example 
  KS                                text    html    latex   example
  class.DKSClassifier               text    html    latex
  class.DKSGeneScores               text    html    latex
  class.DKSGeneSet                  text    html    latex
  class.DKSPredicted                text    html    latex
  dks                               text    html    latex
  dksClassify                       text    html    latex   example
  dksCustomClass                    text    html    latex   example
  dksPerm                           text    html    latex   example
  dksSelectGenes                    text    html    latex   example
  dksTrain                          text    html    latex   example
  dksWeights                        text    html    latex   example
  dualKS-package                    text    html    latex
** building package indices ...
Loading required package: methods
* DONE (dualKS)