| dualKS 1.2.0 Eric J. Kort
 
 | Bioconductor Changelog |  | Snapshot Date: 2009-04-18 11:27:48 -0700 (Sat, 18 Apr 2009) |  | URL: https://hedgehog.fhcrc.org/bioconductor/branches/RELEASE_2_3/madman/Rpacks/dualKS |  | Last Changed Rev: 34811 / Revision: 38965 |  | Last Changed Date: 2008-10-21 15:32:58 -0700 (Tue, 21 Oct 2008) | 
 | wilson2 | Linux (openSUSE 11.1) / x86_64 | OK | OK |  | 
| liverpool | Windows Server 2003 R2 (32-bit) / x64 | [ OK ] | OK | OK | 
| pitt | Mac OS X Tiger (10.4.11) / i386 | OK | OK | OK | 
| pelham | Mac OS X Leopard (10.5.6) / i386 | OK | OK | OK | 
* checking for file 'dualKS/DESCRIPTION' ... OK
* preparing 'dualKS':
* checking DESCRIPTION meta-information ... OK
* installing the package to re-build vignettes
installing R.css in E:/biocbld/bbs-2.3-bioc/tmpdir/Rinst72085626
---------- Making package dualKS ------------
  adding build stamp to DESCRIPTION
  installing NAMESPACE file and metadata
  installing R files
  installing inst files
  installing data files
  preparing package dualKS for lazy loading
Loading required package: Biobase
Loading required package: tools
Welcome to Bioconductor
  Vignettes contain introductory material. To view, type
  'openVignette()'. To cite Bioconductor, see
  'citation("Biobase")' and for packages 'citation(pkgname)'.
Loading required package: affy
Creating a new generic function for "summary" in "dualKS"
Creating a new generic function for "plot" in "dualKS"
  installing man source files
  installing indices
Loading required package: methods
Loading required package: Biobase
Loading required package: tools
Loading required package: utils
Welcome to Bioconductor
  Vignettes contain introductory material. To view, type
  'openVignette()'. To cite Bioconductor, see
  'citation("Biobase")' and for packages 'citation(pkgname)'.
  not zipping data
  installing help
 >>> Building/Updating help pages for package 'dualKS'
     Formats: text html latex example chm 
  KS                                text    html    latex   example chm
  class.DKSClassifier               text    html    latex           chm
  class.DKSGeneScores               text    html    latex           chm
  class.DKSGeneSet                  text    html    latex           chm
  class.DKSPredicted                text    html    latex           chm
  dks                               text    html    latex           chm
  dksClassify                       text    html    latex   example chm
  dksCustomClass                    text    html    latex   example chm
  dksPerm                           text    html    latex   example chm
  dksSelectGenes                    text    html    latex   example chm
  dksTrain                          text    html    latex   example chm
  dksWeights                        text    html    latex   example chm
  dualKS-package                    text    html    latex           chm
Microsoft HTML Help Compiler 4.74.8702
Compiling e:\biocbld\bbs-2.3-bioc\meat\dualKS\chm\dualKS.chm
Compile time: 0 minutes, 2 seconds
14	Topics
122	Local links
0	Internet links
1	Graphic
Created e:\biocbld\bbs-2.3-bioc\meat\dualKS\chm\dualKS.chm, 34,131 bytes
Compression decreased file by 21,149 bytes.
  adding MD5 sums
* DONE (dualKS)
* creating vignettes ... OK
* removing junk files
* checking for LF line-endings in source and make files
* checking for empty or unneeded directories
* building 'dualKS_1.2.0.tar.gz'