| affydata 1.11.3 Laurent
 
 | Snapshot Date: 2008-10-16 12:02:11 -0700 (Thu, 16 Oct 2008) |  | URL: https://hedgehog.fhcrc.org/bioc-data/trunk/experiment/pkgs/affydata |  | Last Changed Rev: 410 / Revision: 729 |  | Last Changed Date: 2007-08-07 18:27:33 -0700 (Tue, 07 Aug 2007) | 
 | lamb1 | Linux (SUSE 10.1) / x86_64 | OK | OK |  | 
| liverpool | Windows Server 2003 R2 (32-bit) / x64 | OK | OK | OK | 
| pitt | Mac OS X Tiger (10.4.11) / i386 | OK | OK | [ OK ] | 
                INSTALLATION WITH 'R CMD INSTALL affydata_1.11.3.tar.gz'
* Installing to library 'affydata.buildbin-libdir'
* Installing *source* package 'affydata' ...
** R
** data
** inst
** help
 >>> Building/Updating help pages for package 'affydata'
     Formats: text html latex example 
  Dilution                          text    html    latex
** building package indices ...
* DONE (affydata)