| affydata 1.11.3 Laurent
 
 | Snapshot Date: 2008-10-16 12:02:11 -0700 (Thu, 16 Oct 2008) |  | URL: https://hedgehog.fhcrc.org/bioc-data/trunk/experiment/pkgs/affydata |  | Last Changed Rev: 410 / Revision: 729 |  | Last Changed Date: 2007-08-07 18:27:33 -0700 (Tue, 07 Aug 2007) | 
 | lamb1 | Linux (SUSE 10.1) / x86_64 | OK | OK |  | 
| liverpool | Windows Server 2003 R2 (32-bit) / x64 | OK | [ OK ] | OK | 
| pitt | Mac OS X Tiger (10.4.11) / i386 | OK | OK | OK | 
* checking for working pdflatex ... OK
* using log directory 'E:/biocbld/bbs-2.2-data-experiment/meat/affydata.Rcheck'
* using R version 2.7.2 (2008-08-25)
* using session charset: ISO8859-1
* checking for file 'affydata/DESCRIPTION' ... OK
* this is package 'affydata' version '1.11.3'
* checking package dependencies ... OK
* checking if this is a source package ... OK
* checking whether package 'affydata' can be installed ... OK
* checking package directory ... OK
* checking for portable file names ... OK
* checking DESCRIPTION meta-information ... OK
* checking top-level files ... OK
* checking index information ... OK
* checking package subdirectories ... OK
* checking R files for non-ASCII characters ... OK
* checking R files for syntax errors ... OK
* checking whether the package can be loaded ... OK
* checking whether the package can be loaded with stated dependencies ... OK
* checking for unstated dependencies in R code ... OK
* checking S3 generic/method consistency ... OK
* checking replacement functions ... OK
* checking foreign function calls ... OK
* checking R code for possible problems ... OK
* checking Rd files ... OK
* checking Rd cross-references ... OK
* checking for missing documentation entries ... OK
* checking for code/documentation mismatches ... OK
* checking Rd \usage sections ... OK
* checking data for non-ASCII characters ... OK
* creating affydata-Ex.R ... OK
* checking examples ... OK
* checking package vignettes in 'inst/doc' ... OK
* creating affydata-manual.tex ... OK
* checking affydata-manual.tex using pdflatex ... OK
 
installing R.css in E:/biocbld/bbs-2.2-data-experiment/meat/affydata.Rcheck
---------- Making package affydata ------------
  adding build stamp to DESCRIPTION
  installing R files
  installing inst files
  installing data files
  installing man source files
  installing indices
  not zipping data
  installing help
 >>> Building/Updating help pages for package 'affydata'
     Formats: text html latex example chm 
  Dilution                          text    html    latex           chm
Microsoft HTML Help Compiler 4.74.8702
Compiling e:\biocbld\bbs-2.2-data-experiment\meat\affydata.Rcheck\00_pkg_src\affydata\chm\affydata.chm
Compile time: 0 minutes, 1 second
2	Topics
2	Local links
1	Internet link
1	Graphic
Created e:\biocbld\bbs-2.2-data-experiment\meat\affydata.Rcheck\00_pkg_src\affydata\chm\affydata.chm, 16,375 bytes
Compression increased file by 9,001 bytes.
  adding MD5 sums
* DONE (affydata)