oligoClasses 1.2.0 Benilton Carvalho
 | Snapshot Date: 2008-08-08 00:12:03 -0700 (Fri, 08 Aug 2008) |  | URL: https://hedgehog.fhcrc.org/bioconductor/branches/RELEASE_2_2/madman/Rpacks/oligoClasses |  | Last Changed Rev: 31430 / Revision: 33132 |  | Last Changed Date: 2008-04-29 16:50:18 -0700 (Tue, 29 Apr 2008) |  
  | lamb1  | Linux (SUSE 10.1) / x86_64  |  OK  |  OK  |  | 
| wilson2  | Linux (openSUSE 10.3) / x86_64  |  OK  |  OK  |  | 
| wellington  | Linux (openSUSE 10.3) / i686  |  OK  |  OK  |  | 
| liverpool  | Windows Server 2003 R2 (32-bit) / x64  |  OK  |  OK  | [ OK ] | 
| pitt  | Mac OS X Tiger (10.4.11) / i386  |  OK  |  OK  |  OK  | 
installing R.css in E:/biocbld/bbs-2.2-bioc/meat/oligoClasses.buildbin-libdir
Using auto-selected zip options ' oligoClasses-HELP=ziponly'
---------- Making package oligoClasses ------------
  adding build stamp to DESCRIPTION
  installing NAMESPACE file and metadata
  installing R files
  installing inst files
  preparing package oligoClasses for lazy loading
Loading required package: Biobase
Loading required package: tools
Welcome to Bioconductor
  Vignettes contain introductory material. To view, type
  'openVignette()'. To cite Bioconductor, see
  'citation("Biobase")' and for packages 'citation(pkgname)'.
  installing man source files
  installing indices
  installing help
Note: removing empty section \seealso
Note: removing empty section \seealso
Note: removing empty section \author
Note: removing empty section \note
Note: removing empty section \references
Note: removing empty section \seealso
Note: removing empty section \author
Note: removing empty section \note
Note: removing empty section \references
Note: removing empty section \seealso
Note: removing empty section \note
Note: removing empty section \references
Note: removing empty section \note
Note: removing empty section \references
Note: removing empty section \note
Note: removing empty section \references
Note: removing empty section \note
Note: removing empty section \references
Note: removing empty section \seealso
Note: removing empty section \seealso
Note: removing empty section \author
Note: removing empty section \note
Note: removing empty section \references
Note: removing empty section \seealso
Note: removing empty section \section{Objects from the Class}
Note: removing empty section \author
Note: removing empty section \note
Note: removing empty section \references
Note: removing empty section \seealso
Note: removing empty section \section{Objects from the Class}
Note: removing empty section \author
Note: removing empty section \details
Note: removing empty section \note
Note: removing empty section \references
Note: removing empty section \examples
Note: removing empty section \author
Note: removing empty section \details
Note: removing empty section \note
Note: removing empty section \references
Note: removing empty section \examples
Note: removing empty section \author
Note: removing empty section \details
Note: removing empty section \note
Note: removing empty section \references
Note: removing empty section \examples
Note: removing empty section \seealso
Note: removing empty section \author
Note: removing empty section \details
Note: removing empty section \note
Note: removing empty section \references
Note: removing empty section \examples
Note: removing empty section \seealso
Note: removing empty section \author
Note: removing empty section \note
Note: removing empty section \references
Note: removing empty section \author
Note: removing empty section \note
Note: removing empty section \references
Note: removing empty section \author
Note: removing empty section \note
Note: removing empty section \references
Note: removing empty section \author
Note: removing empty section \note
Note: removing empty section \references
Note: removing empty section \author
Note: removing empty section \note
Note: removing empty section \references
Note: removing empty section \seealso
Note: removing empty section \author
Note: removing empty section \note
Note: removing empty section \references
Note: removing empty section \seealso
 >>> Building/Updating help pages for package 'oligoClasses'
     Formats: text html latex example chm 
  AffyGenePDInfo-class              text    html    latex   example chm
  DBPDInfo-class                    text    html    latex   example chm
  FeatureSet-class                  text    html    latex           chm
  FeatureSetExtensions-class        text    html    latex   example chm
  GeneSTFeatureSet-class            text    html    latex   example chm
  PDInfo-class                      text    html    latex   example chm
  QuantificationSet-class           text    html    latex   example chm
  SnpCallSet-methods                text    html    latex           chm
  SnpCallSetPlus-class              text    html    latex   example chm
  SnpCnvFeatureSet-class            text    html    latex   example chm
  SnpCnvQSet-class                  text    html    latex   example chm
  SnpCopyNumberSet-methods          text    html    latex           chm
  SnpLevelSet-class                 text    html    latex   example chm
  SnpQSet-class                     text    html    latex   example chm
  SnpSetExtensions-class            text    html    latex   example chm
  affyPlatforms                     text    html    latex   example chm
  calculateCopyNumber               text    html    latex           chm
  chromosome                        text    html    latex           chm
  db                                text    html    latex   example chm
  oligoSnpSet-methods               text    html    latex           chm
  platformDesign-class              text    html    latex   example chm
  position                          text    html    latex           chm
  zipping help files
Microsoft HTML Help Compiler 4.74.8702
Compiling e:\biocbld\bbs-2.2-bioc\meat\R.INSTALL.5636\oligoClasses\chm\oligoClasses.chm
Compile time: 0 minutes, 0 seconds
23	Topics
130	Local links
0	Internet links
1	Graphic
Created e:\biocbld\bbs-2.2-bioc\meat\R.INSTALL.5636\oligoClasses\chm\oligoClasses.chm, 31,277 bytes
Compression decreased file by 58,121 bytes.
  adding MD5 sums
packaged installation of package 'oligoClasses' as oligoClasses_1.2.0.zip
* DONE (oligoClasses)