oligoClasses 1.2.0 Benilton Carvalho
 | Snapshot Date: 2008-08-08 00:12:03 -0700 (Fri, 08 Aug 2008) |  | URL: https://hedgehog.fhcrc.org/bioconductor/branches/RELEASE_2_2/madman/Rpacks/oligoClasses |  | Last Changed Rev: 31430 / Revision: 33132 |  | Last Changed Date: 2008-04-29 16:50:18 -0700 (Tue, 29 Apr 2008) |  
  | lamb1  | Linux (SUSE 10.1) / x86_64  | [ OK ] |  OK  |  | 
| wilson2  | Linux (openSUSE 10.3) / x86_64  |  OK  |  OK  |  | 
| wellington  | Linux (openSUSE 10.3) / i686  |  OK  |  OK  |  | 
| liverpool  | Windows Server 2003 R2 (32-bit) / x64  |  OK  |  OK  |  OK  | 
| pitt  | Mac OS X Tiger (10.4.11) / i386  |  OK  |  OK  |  OK  | 
* checking for file 'oligoClasses/DESCRIPTION' ... OK
* preparing 'oligoClasses':
* checking DESCRIPTION meta-information ... OK
* installing the package to re-build vignettes
* Installing *source* package 'oligoClasses' ...
** R
** inst
** preparing package for lazy loading
Loading required package: Biobase
Loading required package: tools
Welcome to Bioconductor
  Vignettes contain introductory material. To view, type
  'openVignette()'. To cite Bioconductor, see
  'citation("Biobase")' and for packages 'citation(pkgname)'.
** help
Note: removing empty section \seealso
Note: removing empty section \author
Note: removing empty section \note
Note: removing empty section \references
Note: removing empty section \seealso
Note: removing empty section \note
Note: removing empty section \references
Note: removing empty section \note
Note: removing empty section \references
Note: removing empty section \seealso
Note: removing empty section \author
Note: removing empty section \note
Note: removing empty section \references
Note: removing empty section \seealso
Note: removing empty section \section{Objects from the Class}
Note: removing empty section \author
Note: removing empty section \details
Note: removing empty section \note
Note: removing empty section \references
Note: removing empty section \examples
Note: removing empty section \author
Note: removing empty section \details
Note: removing empty section \note
Note: removing empty section \references
Note: removing empty section \examples
Note: removing empty section \seealso
Note: removing empty section \author
Note: removing empty section \note
Note: removing empty section \references
Note: removing empty section \author
Note: removing empty section \note
Note: removing empty section \references
Note: removing empty section \author
Note: removing empty section \note
Note: removing empty section \references
Note: removing empty section \seealso
 >>> Building/Updating help pages for package 'oligoClasses'
     Formats: text html latex example 
  AffyGenePDInfo-class              text    html    latex   example
  DBPDInfo-class                    text    html    latex   example
  FeatureSet-class                  text    html    latex
  FeatureSetExtensions-class        text    html    latex   example
  GeneSTFeatureSet-class            text    html    latex   example
  PDInfo-class                      text    html    latex   example
  QuantificationSet-class           text    html    latex   example
  SnpCallSet-methods                text    html    latex
  SnpCallSetPlus-class              text    html    latex   example
  SnpCnvFeatureSet-class            text    html    latex   example
  SnpCnvQSet-class                  text    html    latex   example
  SnpCopyNumberSet-methods          text    html    latex
  SnpLevelSet-class                 text    html    latex   example
  SnpQSet-class                     text    html    latex   example
  SnpSetExtensions-class            text    html    latex   example
  affyPlatforms                     text    html    latex   example
  calculateCopyNumber               text    html    latex
  chromosome                        text    html    latex
  db                                text    html    latex   example
  oligoSnpSet-methods               text    html    latex
  platformDesign-class              text    html    latex   example
  position                          text    html    latex
** building package indices ...
* DONE (oligoClasses)
* creating vignettes ... OK
* removing junk files
* checking for LF line-endings in source and make files
* checking for empty or unneeded directories
* building 'oligoClasses_1.2.0.tar.gz'