RLMM 1.2.0 Nusrat Rabbee
 | Snapshot Date: 2008-08-08 00:12:03 -0700 (Fri, 08 Aug 2008) |  | URL: https://hedgehog.fhcrc.org/bioconductor/branches/RELEASE_2_2/madman/Rpacks/RLMM |  | Last Changed Rev: 31430 / Revision: 33132 |  | Last Changed Date: 2008-04-29 16:50:18 -0700 (Tue, 29 Apr 2008) |  
  | lamb1  | Linux (SUSE 10.1) / x86_64  |  OK  |  OK  |  | 
| wilson2  | Linux (openSUSE 10.3) / x86_64  |  OK  |  OK  |  | 
| wellington  | Linux (openSUSE 10.3) / i686  |  OK  |  OK  |  | 
| liverpool  | Windows Server 2003 R2 (32-bit) / x64  |  OK  |  OK  |  OK  | 
| pitt  | Mac OS X Tiger (10.4.11) / i386  |  OK  | [ OK ] |  OK  | 
* checking for working pdflatex ... OK
* using log directory '/Users/biocbuild/bbs-2.2-bioc/meat/RLMM.Rcheck'
* using R version 2.7.1 (2008-06-23)
* using session charset: ASCII
* checking for file 'RLMM/DESCRIPTION' ... OK
* this is package 'RLMM' version '1.2.0'
* checking package dependencies ... OK
* checking if this is a source package ... OK
* checking whether package 'RLMM' can be installed ... OK
* checking package directory ... OK
* checking for portable file names ... OK
* checking for sufficient/correct file permissions ... OK
* checking DESCRIPTION meta-information ... OK
* checking top-level files ... OK
* checking index information ... OK
* checking package subdirectories ... OK
* checking R files for non-ASCII characters ... OK
* checking R files for syntax errors ... OK
* checking whether the package can be loaded ... OK
* checking whether the package can be loaded with stated dependencies ... OK
* checking for unstated dependencies in R code ... OK
* checking S3 generic/method consistency ... OK
* checking replacement functions ... OK
* checking foreign function calls ... OK
* checking R code for possible problems ... NOTE
Classify : calc.meancov: no visible binding for global variable 'dflag'
Found possibly global 'T' or 'F' in the following functions:
  Classify create_Thetafile normalize_Rawfiles plot_theta
* checking Rd files ... OK
* checking Rd cross-references ... OK
* checking for missing documentation entries ... OK
* checking for code/documentation mismatches ... OK
* checking Rd \usage sections ... OK
* creating RLMM-Ex.R ... OK
* checking examples ... OK
* checking package vignettes in 'inst/doc' ... OK
* creating RLMM-manual.tex ... OK
* checking RLMM-manual.tex using pdflatex ... OK
 
* Installing *source* package 'RLMM' ...
** R
** inst
** help
 >>> Building/Updating help pages for package 'RLMM'
     Formats: text html latex example 
  Classify                          text    html    latex
  create_Thetafile                  text    html    latex
  normalize_Rawfiles                text    html    latex
  plot_theta                        text    html    latex
** building package indices ...
* DONE (RLMM)