RLMM 1.2.0 Nusrat Rabbee
 | Snapshot Date: 2008-08-08 00:12:03 -0700 (Fri, 08 Aug 2008) |  | URL: https://hedgehog.fhcrc.org/bioconductor/branches/RELEASE_2_2/madman/Rpacks/RLMM |  | Last Changed Rev: 31430 / Revision: 33132 |  | Last Changed Date: 2008-04-29 16:50:18 -0700 (Tue, 29 Apr 2008) |  
  | lamb1  | Linux (SUSE 10.1) / x86_64  |  OK  |  OK  |  | 
| wilson2  | Linux (openSUSE 10.3) / x86_64  |  OK  |  OK  |  | 
| wellington  | Linux (openSUSE 10.3) / i686  |  OK  |  OK  |  | 
| liverpool  | Windows Server 2003 R2 (32-bit) / x64  | [ OK ] |  OK  |  OK  | 
| pitt  | Mac OS X Tiger (10.4.11) / i386  |  OK  |  OK  |  OK  | 
* checking for file 'RLMM/DESCRIPTION' ... OK
* preparing 'RLMM':
* checking DESCRIPTION meta-information ... OK
* installing the package to re-build vignettes
installing R.css in E:/biocbld/bbs-2.2-bioc/tmpdir/Rinst220841754
---------- Making package RLMM ------------
  adding build stamp to DESCRIPTION
  installing R files
  installing inst files
  installing man source files
  installing indices
  installing help
 >>> Building/Updating help pages for package 'RLMM'
     Formats: text html latex example chm 
  Classify                          text    html    latex           chm
  create_Thetafile                  text    html    latex           chm
  normalize_Rawfiles                text    html    latex           chm
  plot_theta                        text    html    latex           chm
Microsoft HTML Help Compiler 4.74.8702
Compiling e:\biocbld\bbs-2.2-bioc\meat\RLMM\chm\RLMM.chm
Compile time: 0 minutes, 0 seconds
5	Topics
8	Local links
0	Internet links
1	Graphic
Created e:\biocbld\bbs-2.2-bioc\meat\RLMM\chm\RLMM.chm, 19,833 bytes
Compression increased file by 4,921 bytes.
  adding MD5 sums
* DONE (RLMM)
* creating vignettes ... OK
* removing junk files
* checking for LF line-endings in source and make files
* checking for empty or unneeded directories
* building 'RLMM_1.2.0.tar.gz'