GEOmetadb 1.0.3 Jack Zhu
 | Snapshot Date: 2008-08-08 00:12:03 -0700 (Fri, 08 Aug 2008) |  | URL: https://hedgehog.fhcrc.org/bioconductor/branches/RELEASE_2_2/madman/Rpacks/GEOmetadb |  | Last Changed Rev: 32893 / Revision: 33132 |  | Last Changed Date: 2008-07-24 08:15:55 -0700 (Thu, 24 Jul 2008) |  
  | lamb1  | Linux (SUSE 10.1) / x86_64  |  OK  |  OK  |  | 
| wilson2  | Linux (openSUSE 10.3) / x86_64  |  OK  |  OK  |  | 
| wellington  | Linux (openSUSE 10.3) / i686  |  OK  |  OK  |  | 
| liverpool  | Windows Server 2003 R2 (32-bit) / x64  |  OK  |  OK  |  OK  | 
| pitt  | Mac OS X Tiger (10.4.11) / i386  |  OK  |  OK  | [ OK ] | 
                INSTALLATION WITH 'R CMD INSTALL GEOmetadb_1.0.3.tar.gz'
* Installing to library 'GEOmetadb.buildbin-libdir'
* Installing *source* package 'GEOmetadb' ...
** R
** inst
** help
 >>> Building/Updating help pages for package 'GEOmetadb'
     Formats: text html latex example 
  GEOmetadb-package                 text    html    latex   example
  columnDescriptions                text    html    latex   example
  geoConvert                        text    html    latex   example
  getSQLiteFile                     text    html    latex   example
** building package indices ...
* DONE (GEOmetadb)