GEOmetadb 1.0.3 Jack Zhu
 | Snapshot Date: 2008-08-08 00:12:03 -0700 (Fri, 08 Aug 2008) |  | URL: https://hedgehog.fhcrc.org/bioconductor/branches/RELEASE_2_2/madman/Rpacks/GEOmetadb |  | Last Changed Rev: 32893 / Revision: 33132 |  | Last Changed Date: 2008-07-24 08:15:55 -0700 (Thu, 24 Jul 2008) |  
  | lamb1  | Linux (SUSE 10.1) / x86_64  |  OK  |  OK  |  | 
| wilson2  | Linux (openSUSE 10.3) / x86_64  |  OK  |  OK  |  | 
| wellington  | Linux (openSUSE 10.3) / i686  |  OK  |  OK  |  | 
| liverpool  | Windows Server 2003 R2 (32-bit) / x64  | [ OK ] |  OK  |  OK  | 
| pitt  | Mac OS X Tiger (10.4.11) / i386  |  OK  |  OK  |  OK  | 
* checking for file 'GEOmetadb/DESCRIPTION' ... OK
* preparing 'GEOmetadb':
* checking DESCRIPTION meta-information ... OK
* installing the package to re-build vignettes
installing R.css in E:/biocbld/bbs-2.2-bioc/tmpdir/Rinst290483108
---------- Making package GEOmetadb ------------
  adding build stamp to DESCRIPTION
  installing NAMESPACE file and metadata
  installing R files
  installing inst files
  installing man source files
  installing indices
  installing help
 >>> Building/Updating help pages for package 'GEOmetadb'
     Formats: text html latex example chm 
  GEOmetadb-package                 text    html    latex   example chm
  columnDescriptions                text    html    latex   example chm
  geoConvert                        text    html    latex   example chm
  getSQLiteFile                     text    html    latex   example chm
Microsoft HTML Help Compiler 4.74.8702
Compiling e:\biocbld\bbs-2.2-bioc\meat\GEOmetadb\chm\GEOmetadb.chm
Compile time: 0 minutes, 0 seconds
5	Topics
9	Local links
0	Internet links
1	Graphic
Created e:\biocbld\bbs-2.2-bioc\meat\GEOmetadb\chm\GEOmetadb.chm, 19,836 bytes
Compression increased file by 4,664 bytes.
  adding MD5 sums
* DONE (GEOmetadb)
* creating vignettes ... OK
* removing junk files
* checking for LF line-endings in source and make files
* checking for empty or unneeded directories
* building 'GEOmetadb_1.0.3.tar.gz'