| pcaMethods 1.15.2 Wolfram Stacklies
 
 | Snapshot Date: 2007-12-11 00:09:07 -0800 (Tue, 11 Dec 2007) |  | URL: https://hedgehog.fhcrc.org/bioconductor/trunk/madman/Rpacks/pcaMethods |  | Last Changed Rev: 27836 / Revision: 29143 |  | Last Changed Date: 2007-10-08 03:33:45 -0700 (Mon, 08 Oct 2007) | 
 | lamb1 | Linux (SUSE 10.1) / x86_64 | OK | OK |  | 
| wilson2 | Linux (openSUSE 10.3) / x86_64 | ERROR | skipped |  | 
| wellington | Linux (openSUSE 10.3) / i686 | OK | OK |  | 
| liverpool | Windows Server 2003 R2 (32-bit) / x64 | OK | OK | OK | 
| lemming | Windows Server 2003 (32-bit) / x64 | [ OK ] | OK | OK | 
* checking for file 'pcaMethods/DESCRIPTION' ... OK
* preparing 'pcaMethods':
* checking DESCRIPTION meta-information ... OK
* installing the package to re-build vignettes
installing R.css in D:/biocbld/bbs-2.2-bioc/tmpdir/Rinst412855883
---------- Making package pcaMethods ------------
  adding build stamp to DESCRIPTION
  installing NAMESPACE file and metadata
  installing R files
  installing inst files
  installing data files
  preparing package pcaMethods for lazy loading
Loading required package: MASS
Loading required package: pls
Attaching package: 'pls'
	The following object(s) are masked from package:stats :
	 loadings 
Creating a new generic function for "print" in "pcaMethods"
Creating a new generic function for "summary" in "pcaMethods"
Creating a new generic function for "fitted" in "pcaMethods"
  installing man source files
  installing indices
  not zipping data
  installing help
Note: unmatched right brace in 'nlpca' on or after line 60
Note: unmatched right brace in 'nlpca.Rd' on or after line 60
 >>> Building/Updating help pages for package 'pcaMethods'
     Formats: text html latex example chm 
  Q2                                text    html    latex   example chm
  asExprSet                         text    html    latex           chm
  bpca                              text    html    latex   example chm
  checkData                         text    html    latex           chm
  class.nlpcaNet                    text    html    latex           chm
  class.nniRes                      text    html    latex           chm
  class.pcaRes                      text    html    latex           chm
  fitted.pcaRes                     text    html    latex           chm
  helix                             text    html    latex           chm
  kEstimate                         text    html    latex   example chm
  kEstimateFast                     text    html    latex   example chm
  llsImpute                         text    html    latex   example chm
  metaboliteData                    text    html    latex           chm
  metaboliteDataComplete            text    html    latex           chm
  nipalsPca                         text    html    latex   example chm
  nlpca                             text    html    latex   example chm
  nni                               text    html    latex   example chm
  pca                               text    html    latex   example chm
  plotPcs                           text    html    latex   example chm
  plotR2                            text    html    latex           chm
  ppca                              text    html    latex   example chm
  prep                              text    html    latex   example chm
  robustPca                         text    html    latex   example chm
  robustSvd                         text    html    latex   example chm
  slplot                            text    html    latex   example chm
  svdImpute                         text    html    latex   example chm
  svdPca                            text    html    latex   example chm
Microsoft HTML Help Compiler 4.74.8702
Compiling d:\biocbld\bbs-2.2-bioc\meat\pcaMethods\chm\pcaMethods.chm
Compile time: 0 minutes, 0 seconds
28	Topics
107	Local links
3	Internet links
1	Graphic
Created d:\biocbld\bbs-2.2-bioc\meat\pcaMethods\chm\pcaMethods.chm, 65,755 bytes
Compression decreased file by 53,912 bytes.
  adding MD5 sums
* DONE (pcaMethods)
* creating vignettes ... OK
* removing junk files
* checking for LF line-endings in source and make files
* checking for empty or unneeded directories
* building 'pcaMethods_1.15.2.tar.gz'