| GLYPH TABLE - These are the glyphs used in this report to indicate the following package status: |
| - TIMEOUT |
BUILD, CHECK or BUILD BIN of package took more than 40 minutes |
| - ERROR |
BUILD, CHECK or BUILD BIN of package returned an error |
| - WARNINGS |
CHECK of package produced warnings |
| - OK |
BUILD, CHECK or BUILD BIN of package was OK |
| - skipped |
CHECK or BUILD BIN of package was skipped because the BUILD step failed (or because something bad happened with the Build System itself) |
| Click on any glyph in the report below to see the status details (command output). |
| [lamb1] |
Linux (SUSE 10.1) / x86_64 | | | |
| wilson2 |
Linux (openSUSE 10.3) / x86_64 | | | |
| wellington |
Linux (openSUSE 10.3) / i686 | | | |
| liverpool |
Windows Server 2003 R2 (32-bit) / x64 | | | |
| lemming |
Windows Server 2003 (32-bit) / x64 | | | |
|
| A [A] B C D E F G H I J K L M N O P Q R S T U V W X Y Z |
| ABarray 1.7.0 | Yongming Andrew Sun | OK | OK | |
| aCGH 1.13.0 | Jane Fridlyand | OK | WARNINGS | |
| ACME 1.5.0 | Sean Davis | OK | OK | |
| adSplit 1.9.1 | Claudio Lottaz | OK | OK | |
| affxparser 1.11.3 | Kasper Daniel Hansen | OK | OK | |
| affy 1.17.3 | Rafael A. Irizarry | OK | WARNINGS | |
| affycomp 1.15.0 | Rafael A. Irizarry | OK | OK | |
| affycoretools 1.11.2 | James W. MacDonald | OK | OK | |
| AffyExpress 1.4.0 | Xuejun Arthur Li | OK | ERROR | |
| affyio 1.7.6 | Benjamin Milo Bolstad | OK | OK | |
| affylmGUI 1.13.0 | Keith Satterley | OK | OK | |
| affypdnn 1.13.2 | Laurent Gautier | OK | OK | |
| affyPLM 1.15.4 | Ben Bolstad | OK | OK | |
| affyQCReport 1.17.0 | Craig Parman | OK | OK | |
| altcdfenvs 1.13.1 | Laurent Gautier | OK | WARNINGS | |
| annaffy 1.11.2 | Colin A. Smith | OK | ERROR | |
| AnnBuilder 1.17.0 | J. Zhang | OK | OK | |
| annotate 1.17.3 | Biocore Team c/o BioC user list | OK | WARNINGS | |
| AnnotationDbi 1.1.6 | Biocore Team c/o BioC user list | OK | WARNINGS | |
| annotationTools 1.9.0 | Alexandre Kuhn | OK | OK | |
| apComplex 2.5.0 | Denise Scholtens | OK | OK | |
| aroma.light 1.7.1 | Henrik Bengtsson | OK | ERROR | |
| arrayMagic 1.17.2 | Andreas Buness | ERROR | skipped | |
| arrayQuality 1.15.0 | Agnes Paquet | OK | WARNINGS | |
| arrayQualityMetrics 1.3.5 | Audrey Kauffmann | OK | OK | |
|
| B A [B] C D E F G H I J K L M N O P Q R S T U V W X Y Z |
| beadarray 1.7.2 | Mark Dunning | OK | OK | |
| beadarraySNP 1.5.2 | Jan Oosting | OK | WARNINGS | |
| BeadExplorer 1.5.0 | Gareth Elvidge | OK | OK | |
| bgafun 1.1.0 | Iain Wallace | OK | ERROR | |
| BGmix 0.9.0 | Alex Lewin | OK | OK | |
| bgx 1.3.0 | Ernest Turro | OK | OK | |
| Biobase 1.17.7 | Biocore Team c/o BioC user list | OK | OK | |
| BiocCaseStudies 1.1.1 | Biocore Team c/o BioC user list | OK | OK | |
| biocGraph 1.1.1 | Li Long | OK | OK | |
| biocViews 1.7.1 | Biocore Team c/o BioC user list | OK | OK | |
| bioDist 1.11.3 | Biocore Team c/o BioC user list | ERROR | skipped | |
| biomaRt 1.13.6 | Steffen Durinck | OK | OK | |
| BioMVCClass 1.7.0 | Elizabeth Whalen | OK | OK | |
| Biostrings 2.7.6 | H. Pages | OK | WARNINGS | |
| bridge 1.11.0 | Raphael Gottardo | OK | OK | |
| BSgenome 1.7.1 | H. Pages | OK | OK | |
| BufferedMatrix 1.3.0 | Benjamin Milo Bolstad | OK | ERROR | |
| BufferedMatrixMethods 1.3.0 | B. M. Bolstad | OK | OK | |
|
| C A B [C] D E F G H I J K L M N O P Q R S T U V W X Y Z |
| CALIB 1.5.0 | Hui Zhao | OK | OK | |
| Category 2.5.0 | Robert Gentleman | OK | OK | |
| cellHTS 1.9.2 | Ligia Bras | OK | OK | |
| cellHTS2 2.3.11 | Ligia Bras | OK | OK | |
| CGHcall 1.1.9 | Sjoerd Vosse | OK | OK | |
| cghMCR 1.9.0 | J. Zhang | OK | OK | |
| clusterStab 1.11.0 | James W. MacDonald | OK | OK | |
| CoCiteStats 1.11.0 | R. Gentleman | OK | OK | |
| codelink 1.7.1 | Diego Diez | OK | WARNINGS | |
| convert 1.15.0 | Yee Hwa (Jean) Yang | OK | OK | |
| copa 1.7.0 | James W. MacDonald | OK | OK | |
| CORREP 1.5.0 | Dongxiao Zhu | OK | OK | |
| cosmo 1.5.0 | Oliver Bembom | OK | OK | |
| cosmoGUI 1.5.0 | Oliver Bembom | OK | OK | |
| ctc 1.13.0 | Antoine Lucas | OK | OK | |
|
| D A B C [D] E F G H I J K L M N O P Q R S T U V W X Y Z |
| daMA 1.11.0 | Jobst Landgrebe | OK | OK | |
| DEDS 1.13.0 | Yuanyuan Xiao | OK | OK | |
| diffGeneAnalysis 1.21.0 | Choudary Jagarlamudi | OK | OK | |
| DNAcopy 1.13.2 | Venkatraman E. Seshan | OK | OK | |
| DynDoc 1.17.0 | Biocore Team c/o BioC user list | OK | OK | |
|
| E A B C D [E] F G H I J K L M N O P Q R S T U V W X Y Z |
| EBarrays 2.3.0 | Ming Yuan | OK | OK | |
| EBImage 2.3.11 | Oleg Sklyar | OK | OK | |
| ecolitk 1.11.2 | Laurent | OK | OK | |
| edd 1.17.0 | Vince Carey | OK | OK | |
| exonmap 1.5.0 | Michal Okoniewski | OK | WARNINGS | |
| explorase 1.3.0 | Michael Lawrence | OK | OK | |
| externalVector 1.5.2 | Biocore Team c/o BioC user list | OK | ERROR | |
|
| F A B C D E [F] G H I J K L M N O P Q R S T U V W X Y Z |
| factDesign 1.13.0 | Denise Scholtens | OK | ERROR | |
| fbat 1.3.0 | Weiliang Qiu | OK | OK | |
| fdrame 1.11.0 | Effi Kenigsberg | OK | WARNINGS | |
| flowCore 1.5.7 | Nolwenn Le Meur | OK | WARNINGS | |
| flowQ 0.2.4 | N. Le Meur | OK | OK | |
| flowUtils 0.5.0 | Florian Hahne | OK | WARNINGS | |
| flowViz 1.3.2 | Florian Hahne | OK | OK | |
|
| G A B C D E F [G] H I J K L M N O P Q R S T U V W X Y Z |
| gaggle 1.7.0 | Paul Shannon | OK | OK | |
| gcrma 2.11.1 | Z. Wu | OK | WARNINGS | |
| genArise 1.15.0 | IFC Development Team | OK | OK | |
| genefilter 1.17.7 | Biocore Team c/o BioC user list | OK | OK | |
| GeneMeta 1.11.0 | Biocore Team c/o BioC user list | OK | OK | |
| geneplotter 1.17.3 | Biocore Team c/o BioC user list | OK | OK | |
| GeneR 2.9.0 | Y. d'Aubenton-Carafa | ERROR | skipped | |
| geneRecommender 1.11.0 | Greg Hather | OK | OK | |
| GeneRfold 0.1.3 | Antoine Lucas | ERROR | skipped | |
| GeneSpring 2.13.0 | Thon de Boer | OK | OK | |
| GeneticsBase 1.3.1 | Gregory Warnes | OK | OK | |
| GeneticsDesign 1.5.0 | Weiliang Qiu | OK | OK | |
| GeneticsPed 1.1.0 | Gregor Gorjanc | OK | ERROR | |
| GeneTraffic 1.11.0 | Daniel Iordan | OK | OK | |
| GEOquery 2.3.0 | Sean Davis | OK | OK | |
| GGtools 1.7.9 | Vince Carey | OK | OK | |
| GLAD 1.13.0 | Philippe Hupe | OK | WARNINGS | |
| GlobalAncova 3.5.0 | R. Meister | OK | OK | |
| globaltest 4.9.0 | Jelle Goeman | OK | OK | |
| GOstats 2.5.0 | Robert Gentleman | OK | OK | |
| goTools 1.11.0 | Agnes Paquet | OK | OK | |
| gpls 1.11.0 | Biocore Team c/o BioC user list | OK | OK | |
| graph 1.17.14 | Robert Gentleman | OK | OK | |
| GraphAT 1.11.0 | Thomas LaFramboise | OK | ERROR | |
| GSEABase 1.1.14 | Biocore Team c/o BioC user list | OK | WARNINGS | |
|
| H A B C D E F G [H] I J K L M N O P Q R S T U V W X Y Z |
| Harshlight 1.9.0 | Maurizio Pellegrino | OK | OK | |
| Heatplus 1.9.0 | Alexander Ploner | OK | OK | |
| HEM 1.11.0 | HyungJun Cho | OK | OK | |
| hexbin 1.13.0 | Nicholas Lewin-Koh | ERROR | skipped | |
| hopach 1.13.0 | Katherine S. Pollard | OK | OK | |
| hypergraph 1.11.0 | Robert Gentleman | OK | OK | |
|
| I A B C D E F G H [I] J K L M N O P Q R S T U V W X Y Z |
| Icens 1.11.1 | Biocore Team c/o BioC user list | OK | OK | |
| idiogram 1.13.0 | Karl J. Dykema | OK | OK | |
| impute 1.11.0 | Balasubramanian Narasimhan | OK | OK | |
| iSNetwork 1.9.0 | Elizabeth Whalen | OK | WARNINGS | |
| iSPlot 1.13.0 | Elizabeth Whalen | OK | OK | |
|
| K A B C D E F G H I J [K] L M N O P Q R S T U V W X Y Z |
| keggorth 1.1.0 | VJ Carey | OK | OK | |
| KEGGSOAP 1.13.0 | Robert Gentleman | OK | ERROR | |
|
| L A B C D E F G H I J K [L] M N O P Q R S T U V W X Y Z |
| lapmix 1.5.2 | Yann Ruffieux | OK | OK | |
| LBE 1.7.0 | Cyril Dalmasso | OK | OK | |
| limma 2.13.1 | Gordon Smyth | OK | OK | |
| limmaGUI 1.15.0 | Keith Satterley | OK | OK | |
| LMGene 1.9.0 | John Tillinghast | OK | OK | |
| logicFS 1.9.1 | Holger Schwender | OK | OK | |
| LPE 1.13.0 | Nitin Jain | OK | OK | |
| lumi 1.5.10 | Pan Du | OK | WARNINGS | |
|
| M A B C D E F G H I J K L [M] N O P Q R S T U V W X Y Z |
| maanova 1.7.1 | Hyuna Yang | OK | WARNINGS | |
| macat 1.13.1 | Joern Toedling | OK | OK | |
| maCorrPlot 1.9.0 | Alexander Ploner | OK | OK | |
| maDB 1.11.0 | Johannes Rainer | OK | OK | |
| made4 1.13.1 | Aedin Culhane | OK | OK | |
| maigesPack 1.3.3 | Gustavo H. Esteves | OK | ERROR | |
| makecdfenv 1.17.0 | James W. MacDonald | OK | OK | |
| makePlatformDesign 1.3.0 | Benilton Carvalho | OK | OK | |
| MANOR 1.11.0 | Pierre Neuvial | OK | ERROR | |
| MantelCorr 1.9.0 | Brian Steinmeyer | OK | OK | |
| marray 1.17.0 | Yee Hwa (Jean) Yang | OK | OK | |
| maSigPro 1.11.0 | Ana Conesa | OK | OK | |
| MassSpecWavelet 1.5.1 | Pan Du | OK | OK | |
| matchprobes 1.11.0 | Biocore Team c/o BioC user list | OK | OK | |
| MCRestimate 1.11.2 | Markus Ruschhaupt | OK | OK | |
| MeasurementError.cor 1.11.0 | Beiying Ding | OK | OK | |
| MergeMaid 2.11.0 | Xiaogang Zhong | OK | OK | |
| metaArray 1.13.0 | Hyungwon Choi | OK | OK | |
| Mfuzz 1.9.0 | Matthias Futschik | OK | OK | |
| MiPP 1.11.0 | Sukwoo Kim | OK | OK | |
| MLInterfaces 1.13.18 | V. Carey | OK | OK | |
| mmgmos 1.7.0 | Xuejun Liu | OK | ERROR | |
| multtest 1.19.0 | Katherine S. Pollard | OK | OK | |
| MVCClass 1.13.0 | Elizabeth Whalen | OK | OK | |
|
| N A B C D E F G H I J K L M [N] O P Q R S T U V W X Y Z |
| nem 2.3.2 | Florian Markowetz | OK | OK | |
| nnNorm 2.3.0 | Adi Laurentiu Tarca | OK | OK | |
| nudge 1.5.1 | N. Dean | OK | ERROR | |
|
| O A B C D E F G H I J K L M N [O] P Q R S T U V W X Y Z |
| occugene 0.1.0 | Oliver Will | OK | WARNINGS | |
| OCplus 1.13.0 | Alexander Ploner | OK | OK | |
| oligo 1.3.7 | Benilton Carvalho | ERROR | skipped | |
| oligoClasses 1.1.6 | Benilton Carvalho | OK | OK | |
| OLIN 1.15.0 | Matthias Futschik | OK | OK | |
| OLINgui 1.13.0 | Matthias Futschik | OK | OK | |
| oneChannelGUI 1.5.4 | Raffaele A Calogero | ERROR | skipped | |
| ontoTools 1.15.0 | Vince Carey | OK | OK | |
| OrderedList 1.11.3 | Claudio Lottaz | OK | OK | |
| OutlierD 1.3.0 | Sukwoo Kim | OK | OK | |
|
| P A B C D E F G H I J K L M N O [P] Q R S T U V W X Y Z |
| pairseqsim 1.9.3 | Witold Wolski | ERROR | skipped | |
| pamr 1.37.0 | Rob Tibshirani | OK | OK | |
| panp 1.9.0 | Peter Warren | OK | OK | |
| pathRender 1.7.3 | Li Long | OK | OK | |
| pcaMethods 1.15.2 | Wolfram Stacklies | OK | OK | |
| pcot2 1.7.0 | Sarah Song | OK | OK | |
| pdInfoBuilder 1.3.5 | Vince Carey | OK | WARNINGS | |
| pdmclass 1.11.0 | James W. MacDonald | OK | OK | |
| PGSEA 1.7.0 | Karl Dykema | ERROR | skipped | |
| pgUtils 1.11.0 | Johannes Rainer | OK | OK | |
| pickgene 1.11.0 | Brian S. Yandell | OK | WARNINGS | |
| pkgDepTools 1.5.1 | Seth Falcon | OK | OK | |
| plgem 1.11.0 | Mattia Pelizzola | OK | OK | |
| plier 1.9.0 | Crispin Miller | OK | OK | |
| plw 0.99.2 | Magnus Astrand | OK | OK | |
| ppiStats 1.5.6 | Tony Chiang | OK | OK | |
| prada 1.15.0 | Florian Hahne | OK | OK | |
| preprocessCore 1.1.5 | Benjamin Milo Bolstad | OK | OK | |
| prism 0.1.2 | Raphael Gottardo | OK | WARNINGS | |
| PROcess 1.15.0 | Xiaochun Li | OK | WARNINGS | |
| puma 1.5.3 | Richard Pearson | OK | OK | |
|
| Q A B C D E F G H I J K L M N O P [Q] R S T U V W X Y Z |
| quantsmooth 1.5.0 | Jan Oosting | OK | OK | |
| qvalue 1.13.0 | John D. Storey | OK | OK | |
|
| R A B C D E F G H I J K L M N O P Q [R] S T U V W X Y Z |
| rama 1.12.0 | Raphael Gottardo | OK | OK | |
| RankProd 2.11.0 | Fangxin Hong | OK | OK | |
| RbcBook1 1.7.0 | Vince Carey | OK | ERROR | |
| RBGL 1.15.6 | Li Long | OK | WARNINGS | |
| rbsurv 1.5.0 | Sukwoo Kim | OK | OK | |
| Rdbi 1.13.0 | Jianhua Zhang | OK | OK | |
| RdbiPgSQL 1.13.0 | Jianhua Zhang | OK | OK | |
| Rdisop 0.5.1 | Steffen Neumann | OK | OK | |
| reb 1.13.0 | Karl J. Dykema | OK | OK | |
| RefPlus 1.9.0 | Kai-Ming Chang | OK | OK | |
| Resourcerer 1.13.0 | Jianhua Zhang | OK | OK | |
| rflowcyt 1.11.0 | N. LeMeur | OK | WARNINGS | |
| Rgraphviz 1.17.11 | Li Long | OK | WARNINGS | |
| rhdf5 1.7.1 | Biocore Team c/o BioC user list | ERROR | skipped | |
| rHVDM 1.5.0 | Martino Barenco | OK | OK | |
| Ringo 1.3.2 | J. Toedling | OK | ERROR | |
| Rintact 1.1.4 | Tony Chiang | OK | OK | |
| RLMM 1.1.0 | Nusrat Rabbee | OK | OK | |
| RMAGEML 2.13.0 | Steffen Durinck | OK | OK | |
| ROC 1.13.0 | Vince Carey | OK | OK | |
| RPostgreSQL 0.0.0 | M. Dalphin | OK | WARNINGS | |
| Rredland 1.5.1 | VJ Carey | OK | OK | |
| rsbml 1.5.0 | Michael Lawrence | OK | WARNINGS | |
| RSNPper 1.13.0 | VJ Carey | OK | OK | |
| Rtreemix 1.0.0 | Jasmina Bogojeska | OK | OK | |
| Ruuid 1.17.1 | Biocore Team c/o BioC user list | OK | OK | |
| RWebServices 1.3.1 | Martin Morgan | ERROR | skipped | |
|
| S A B C D E F G H I J K L M N O P Q R [S] T U V W X Y Z |
| safe 1.11.0 | William T. Barry | OK | OK | |
| SAGElyzer 1.17.0 | Jianhua Zhang | OK | WARNINGS | |
| sagenhaft 1.9.0 | Tim Beissbarth | OK | OK | |
| SAGx 1.13.0 | Per Broberg | OK | ERROR | |
| SBMLR 1.33.0 | Tomas Radivoyevitch | OK | ERROR | |
| ScISI 1.11.2 | Tony Chiang | OK | OK | |
| SemSim 1.5.0 | Xiang Guo | OK | OK | |
| seqLogo 1.5.0 | Oliver Bembom | OK | OK | |
| siggenes 1.13.1 | Holger Schwender | ERROR | skipped | |
| sigPathway 1.7.0 | Weil Lai | OK | OK | |
| simpleaffy 2.15.02 | Crispin Miller | OK | OK | |
| simulatorAPMS 1.11.0 | Tony Chiang | OK | OK | |
| sizepower 1.9.0 | Weiliang Qiu | OK | OK | |
| SLqPCR 1.5.0 | Matthias Kohl | OK | OK | |
| SMAP 1.3.0 | Robin Andersson | OK | OK | |
| snapCGH 1.7.0 | John Marioni | ERROR | skipped | |
| SNPchip 1.3.4 | Robert Scharpf | OK | OK | |
| spikeLI 1.7.0 | Enrico Carlon | OK | OK | |
| splicegear 1.11.0 | Laurent | OK | OK | |
| splots 1.5.0 | Oleg Sklyar | OK | OK | |
| spotSegmentation 1.13.0 | Chris Fraley | OK | OK | |
| sscore 1.11.0 | Richard Kennedy | OK | OK | |
| ssize 1.11.0 | Gregory R. Warnes | OK | OK | |
| stam 1.7.1 | Claudio Lottaz | ERROR | skipped | |
| stepNorm 1.11.0 | Yuanyuan Xiao | OK | ERROR | |
|
| T A B C D E F G H I J K L M N O P Q R S [T] U V W X Y Z |
| tilingArray 1.17.1 | W. Huber | OK | OK | |
| timecourse 1.11.0 | Yu Chuan Tai | OK | OK | |
| tkWidgets 1.17.0 | J. Zhang | OK | ERROR | |
| topGO 1.5.0 | Adrian Alexa | OK | WARNINGS | |
| twilight 1.15.1 | Stefanie Scheid | OK | OK | |
| TypeInfo 1.5.0 | Duncan Temple Lang | OK | OK | |
|
| V A B C D E F G H I J K L M N O P Q R S T U [V] W X Y Z |
| VanillaICE 1.1.3 | Robert Scharpf | OK | OK | |
| vbmp 1.7.0 | Nicola Lama | OK | OK | |
| vsn 3.4.1 | Wolfgang Huber | OK | WARNINGS | |
|
| W A B C D E F G H I J K L M N O P Q R S T U V [W] X Y Z |
| weaver 1.5.0 | Seth Falcon | OK | OK | |
| webbioc 1.11.0 | Colin A. Smith | OK | OK | |
| widgetInvoke 1.11.0 | Jeff Gentry | OK | OK | |
| widgetTools 1.15.0 | Jianhua Zhang | OK | OK | |
|
| X A B C D E F G H I J K L M N O P Q R S T U V W [X] Y Z |
| xcms 1.11.11 | Colin A. Smith | ERROR | skipped | |
| xps 0.3.12 | Christian Stratowa | OK | OK | |
|
| Y A B C D E F G H I J K L M N O P Q R S T U V W X [Y] Z |
| yaqcaffy 0.99.1 | Laurent Gatto | OK | OK | |