| BioMVCClass 1.7.0 Elizabeth Whalen
 
 | Snapshot Date: 2007-12-11 00:09:07 -0800 (Tue, 11 Dec 2007) |  | URL: https://hedgehog.fhcrc.org/bioconductor/trunk/madman/Rpacks/BioMVCClass |  | Last Changed Rev: 27716 / Revision: 29143 |  | Last Changed Date: 2007-10-02 18:16:39 -0700 (Tue, 02 Oct 2007) | 
 | lamb1 | Linux (SUSE 10.1) / x86_64 | OK | [ OK ] |  | 
| wilson2 | Linux (openSUSE 10.3) / x86_64 | OK | OK |  | 
| wellington | Linux (openSUSE 10.3) / i686 | OK | OK |  | 
| liverpool | Windows Server 2003 R2 (32-bit) / x64 | OK | ERROR | OK | 
| lemming | Windows Server 2003 (32-bit) / x64 | OK | ERROR | OK | 
* checking for working latex ... OK
* using log directory '/home/biocbuild/bbs-2.2-bioc/meat/BioMVCClass.Rcheck'
* using R version 2.7.0 Under development (unstable) (2007-11-18 r43497)
* checking for file 'BioMVCClass/DESCRIPTION' ... OK
* this is package 'BioMVCClass' version '1.7.0'
* checking package name space information ... OK
* checking package dependencies ... OK
* checking if this is a source package ... OK
* checking whether package 'BioMVCClass' can be installed ... OK
* checking package directory ... OK
* checking for portable file names ... OK
* checking for sufficient/correct file permissions ... OK
* checking DESCRIPTION meta-information ... OK
* checking top-level files ... OK
* checking index information ... OK
* checking package subdirectories ... OK
* checking R files for non-ASCII characters ... OK
* checking R files for syntax errors ... OK
* checking whether the package can be loaded ... OK
* checking whether the package can be loaded with stated dependencies ... OK
* checking whether the name space can be loaded with stated dependencies ... OK
* checking for unstated dependencies in R code ... OK
* checking S3 generic/method consistency ... OK
* checking replacement functions ... OK
* checking foreign function calls ... OK
* checking R code for possible problems ... OK
* checking Rd files ... OK
* checking Rd cross-references ... OK
* checking for missing documentation entries ... OK
* checking for code/documentation mismatches ... OK
* checking Rd \usage sections ... OK
* creating BioMVCClass-Ex.R ... OK
* checking examples ... OK
* checking package vignettes in 'inst/doc' ... OK
* creating BioMVCClass-manual.tex ... OK
* checking BioMVCClass-manual.tex ... OK
 
* Installing *source* package 'BioMVCClass' ...
** R
** inst
** help
Note: removing empty section \examples
Note: removing empty section \examples
Note: removing empty section \examples
Note: removing empty section \examples
Note: removing empty section \examples
Note: removing empty section \examples
 >>> Building/Updating help pages for package 'BioMVCClass'
     Formats: text html latex example 
  GSE-class                         text    html    latex
  exprModel-class                   text    html    latex
  graphModel-class                  text    html    latex
  graphView-class                   text    html    latex
  gseModel-class                    text    html    latex
  heatmapView-class                 text    html    latex
** building package indices ...
* DONE (BioMVCClass)