| flowQ 0.2.4 N. Le Meur
 
 | Snapshot Date: 2007-12-11 00:09:07 -0800 (Tue, 11 Dec 2007) |  | URL: https://hedgehog.fhcrc.org/bioconductor/trunk/madman/Rpacks/flowQ |  | Last Changed Rev: 26990 / Revision: 29143 |  | Last Changed Date: 2007-09-10 07:12:43 -0700 (Mon, 10 Sep 2007) | 
 | lamb1 | Linux (SUSE 10.1) / x86_64 | OK | OK |  | 
| wilson2 | Linux (openSUSE 10.3) / x86_64 | OK | OK |  | 
| wellington | Linux (openSUSE 10.3) / i686 | OK | [ OK ] |  | 
| liverpool | Windows Server 2003 R2 (32-bit) / x64 | OK | OK | OK | 
| lemming | Windows Server 2003 (32-bit) / x64 | OK | OK | OK | 
* checking for working latex ... OK
* using log directory '/loc/home/biocbuild/bbs-2.2-bioc/meat/flowQ.Rcheck'
* using R version 2.7.0 Under development (unstable) (2007-12-09 r43632)
* checking for file 'flowQ/DESCRIPTION' ... OK
* checking extension type ... Package
* this is package 'flowQ' version '0.2.4'
* checking package name space information ... OK
* checking package dependencies ... OK
* checking if this is a source package ... OK
* checking whether package 'flowQ' can be installed ... OK
* checking package directory ... OK
* checking for portable file names ... OK
* checking for sufficient/correct file permissions ... OK
* checking DESCRIPTION meta-information ... OK
* checking top-level files ... OK
* checking index information ... OK
* checking package subdirectories ... OK
* checking R files for non-ASCII characters ... OK
* checking R files for syntax errors ... OK
* checking whether the package can be loaded ... OK
* checking whether the package can be loaded with stated dependencies ... OK
* checking whether the name space can be loaded with stated dependencies ... OK
* checking for unstated dependencies in R code ... OK
* checking S3 generic/method consistency ... OK
* checking replacement functions ... OK
* checking foreign function calls ... OK
* checking R code for possible problems ... OK
* checking Rd files ... OK
* checking Rd cross-references ... OK
* checking for missing documentation entries ... OK
* checking for code/documentation mismatches ... OK
* checking Rd \usage sections ... OK
* creating flowQ-Ex.R ... OK
* checking examples ... OK
* creating flowQ-manual.tex ... OK
* checking flowQ-manual.tex ... OK
 
/loc/home/biocbuild/bbs-2.2-bioc/meat/flowQ.Rcheck
* Installing *source* package 'flowQ' ...
** R
** help
Note: removing empty section \seealso
Note: removing empty section \seealso
 >>> Building/Updating help pages for package 'flowQ'
     Formats: text html latex example 
  flowQ-package                     text    html    latex   example
  outlier-class                     text    html    latex   example
  outlierResult-class               text    html    latex   example
  outliers-methods                  text    html    latex
** building package indices ...
* DONE (flowQ)