| Back to the "Multiple platform build/check report" | A B C D E [F] G H I J K L M N O P Q R S T U V W X Y Z |
| Package 75/251 | Hostname | OS / Arch | BUILD | CHECK | BUILD BIN | ||||
| flowQ 0.2.4 N. Le Meur
| lamb1 | Linux (SUSE 10.1) / x86_64 | OK | OK | |||||
| wilson2 | Linux (openSUSE 10.3) / x86_64 | OK | OK | ||||||
| wellington | Linux (openSUSE 10.3) / i686 | OK | OK | ||||||
| liverpool | Windows Server 2003 R2 (32-bit) / x64 | OK | OK | OK | |||||
| lemming | Windows Server 2003 (32-bit) / x64 | [ OK ] | OK | OK |
| Package: flowQ |
| Version: 0.2.4 |
| Command: D:\biocbld\bbs-2.2-bioc\R\bin\R.exe CMD build flowQ |
| StartedAt: 2007-12-11 04:10:59 -0700 (Tue, 11 Dec 2007) |
| EndedAt: 2007-12-11 04:11:10 -0700 (Tue, 11 Dec 2007) |
| EllapsedTime: 10.8 seconds |
| RetCode: 0 |
| Status: OK |
| PackageFile: flowQ_0.2.4.tar.gz |
| PackageFileSize: 2.248 KiB |
* checking for file 'flowQ/DESCRIPTION' ... OK * preparing 'flowQ': * checking DESCRIPTION meta-information ... OK * removing junk files * checking for LF line-endings in source and make files * checking for empty or unneeded directories * building 'flowQ_0.2.4.tar.gz'