Back to the "Multiple platform build/check report"
| Package 193/214 | Hostname | OS | Arch | BUILD | CHECK | BUILD BIN | 
sizepower1.6.0Weiliang QiuLast Changed Date: 2007-04-24 11:21:48 -0700 Last Changed Rev: 24214  | lamb1 | Linux (SUSE 10.1) | x86_64 | OK | OK | |
| wellington | Linux (SUSE 9.2) | i686 | OK | OK | ||
| lemming | Windows Server 2003 (32-bit) | x64 | [ OK ] | OK | OK | 
| Package: sizepower | 
| Version: 1.6.0 | 
| Command: D:\biocbld\bbs-2.0-bioc\R\bin\R.exe CMD build sizepower | 
| RetCode: 0 | 
| Time: 13.5 seconds | 
| Status: OK | 
| PackageFile: sizepower_1.6.0.tar.gz | 
* checking for file 'sizepower/DESCRIPTION' ... OK
* preparing 'sizepower':
* checking DESCRIPTION meta-information ... OK
* checking whether 'INDEX' is up-to-date ... NO
* use '--force' to overwrite the existing 'INDEX'
* installing the package to re-build vignettes
installing R.css in D:/biocbld/bbs-2.0-bioc/tmpdir/Rinst564441027
---------- Making package sizepower ------------
  adding build stamp to DESCRIPTION
  installing NAMESPACE file and metadata
  installing R files
  installing inst files
  installing man source files
  installing indices
  installing help
 >>> Building/Updating help pages for package 'sizepower'
     Formats: text html latex example chm 
  powerMatched                      text    html    latex   example chm
  powerMulti                        text    html    latex   example chm
  powerRandomized                   text    html    latex   example chm
  sampleSizeMatched                 text    html    latex   example chm
  sampleSizeRandomized              text    html    latex   example chm
Microsoft HTML Help Compiler 4.74.8702
Compiling d:\biocbld\bbs-2.0-bioc\meat\sizepower\chm\sizepower.chm
Compile time: 0 minutes, 0 seconds
6	Topics
30	Local links
5	Internet links
1	Graphic
Created d:\biocbld\bbs-2.0-bioc\meat\sizepower\chm\sizepower.chm, 21,582 bytes
Compression decreased file by 5,279 bytes.
  adding MD5 sums
* DONE (sizepower)
* creating vignettes ... OK
* removing junk files
* checking for LF line-endings in source files
* checking for empty or unneeded directories
* building 'sizepower_1.6.0.tar.gz'