Back to the "Multiple platform build/check report"
| Package 193/214 | Hostname | OS | Arch | BUILD | CHECK | BUILD BIN | 
sizepower1.6.0Weiliang QiuLast Changed Date: 2007-04-24 11:21:48 -0700 Last Changed Rev: 24214  | lamb1 | Linux (SUSE 10.1) | x86_64 | [ OK ] | OK | |
| wellington | Linux (SUSE 9.2) | i686 | OK | OK | ||
| lemming | Windows Server 2003 (32-bit) | x64 | OK | OK | OK | 
| Package: sizepower | 
| Version: 1.6.0 | 
| Command: /home/biocbuild/bbs-2.0-bioc/R/bin/R CMD build sizepower | 
| RetCode: 0 | 
| Time: 2.5 seconds | 
| Status: OK | 
| PackageFile: sizepower_1.6.0.tar.gz | 
* checking for file 'sizepower/DESCRIPTION' ... OK
* preparing 'sizepower':
* checking DESCRIPTION meta-information ... OK
* checking whether 'INDEX' is up-to-date ... NO
* use '--force' to overwrite the existing 'INDEX'
* installing the package to re-build vignettes
* Installing *source* package 'sizepower' ...
** R
** inst
** help
 >>> Building/Updating help pages for package 'sizepower'
     Formats: text html latex example 
  powerMatched                      text    html    latex   example
  powerMulti                        text    html    latex   example
  powerRandomized                   text    html    latex   example
  sampleSizeMatched                 text    html    latex   example
  sampleSizeRandomized              text    html    latex   example
** building package indices ...
* DONE (sizepower)
* creating vignettes ... OK
* removing junk files
* checking for LF line-endings in source files
* checking for empty or unneeded directories
* building 'sizepower_1.6.0.tar.gz'