Back to the "Multiple platform build/check report"
| Package 100/214 | Hostname | OS | Arch | BUILD | CHECK | BUILD BIN | 
impute1.8.0Balasubramanian NarasimhanLast Changed Date: 2007-04-24 11:21:48 -0700 Last Changed Rev: 24214  | lamb1 | Linux (SUSE 10.1) | x86_64 | OK | OK | |
| wellington | Linux (SUSE 9.2) | i686 | [ OK ] | OK | ||
| churchill | Solaris 2.9 | sparc | OK | OK | ||
| lemming | Windows Server 2003 (32-bit) | x64 | OK | OK | OK | |
| liverpool | Windows Server 2003 R2 (32-bit) | x64 | OK | OK | OK | |
| derby | Mac OS X (10.4.9) | i686 | OK | OK | 
| Package: impute | 
| Version: 1.8.0 | 
| Command: /loc/biocbuild/bbs-2.0-bioc/R/bin/R CMD build impute | 
| RetCode: 0 | 
| Time: 4.0 seconds | 
| Status: OK | 
| PackageFile: impute_1.8.0.tar.gz | 
* checking for file 'impute/DESCRIPTION' ... OK * preparing 'impute': * checking DESCRIPTION meta-information ... OK * cleaning src * checking whether 'INDEX' is up-to-date ... NO * use '--force' to overwrite the existing 'INDEX' * removing junk files * checking for LF line-endings in source files * checking for empty or unneeded directories * building 'impute_1.8.0.tar.gz'