Back to the "Multiple platform build/check report"
| Package 100/214 | Hostname | OS | Arch | BUILD | CHECK | BUILD BIN |
impute1.8.0Balasubramanian NarasimhanLast Changed Date: 2007-04-24 11:21:48 -0700 Last Changed Rev: 24214 | lamb1 | Linux (SUSE 10.1) | x86_64 | OK | OK | |
| wellington | Linux (SUSE 9.2) | i686 | OK | OK | ||
| churchill | Solaris 2.9 | sparc | OK | OK | ||
| lemming | Windows Server 2003 (32-bit) | x64 | OK | [ OK ] | OK | |
| liverpool | Windows Server 2003 R2 (32-bit) | x64 | OK | OK | OK | |
| derby | Mac OS X (10.4.9) | i686 | OK | OK |
| Package: impute |
| Version: 1.8.0 |
| Command: D:\biocbld\bbs-2.0-bioc\R\bin\R.exe CMD check impute_1.8.0.tar.gz |
| RetCode: 0 |
| Time: 47.6 seconds |
| Status: OK |
| CheckDir: impute.Rcheck |
| Warnings: 0 |
* checking for working latex ... OK * using log directory 'D:/biocbld/bbs-2.0-bioc/meat/impute.Rcheck' * using R version 2.5.0 (2007-04-23) * checking for file 'impute/DESCRIPTION' ... OK * this is package 'impute' version '1.8.0' * checking package dependencies ... OK * checking if this is a source package ... OK * checking whether package 'impute' can be installed ... OK * checking package directory ... OK * checking for portable file names ... OK * checking DESCRIPTION meta-information ... OK * checking top-level files ... OK * checking index information ... OK * checking package subdirectories ... OK * checking R files for non-ASCII characters ... OK * checking R files for syntax errors ... OK * checking whether the package can be loaded ... OK * checking whether the package can be loaded with stated dependencies ... OK * checking whether the name space can be loaded with stated dependencies ... OK * checking for unstated dependencies in R code ... OK * checking S3 generic/method consistency ... OK * checking replacement functions ... OK * checking foreign function calls ... OK * checking R code for possible problems ... OK * checking Rd files ... OK * checking Rd cross-references ... OK * checking for missing documentation entries ... OK * checking for code/documentation mismatches ... OK * checking Rd \usage sections ... OK * checking data for non-ASCII characters ... OK * checking for CRLF line endings in C/C++/Fortran sources/headers ... OK * checking for portable use of $BLAS_LIBS ... OK * creating impute-Ex.R ... OK * checking examples ... OK * creating impute-manual.tex ... OK * checking impute-manual.tex ... OK
impute.Rcheck/00install.out:
installing R.css in D:/biocbld/bbs-2.0-bioc/meat/impute.Rcheck
---------- Making package impute ------------
adding build stamp to DESCRIPTION
installing NAMESPACE file and metadata
making DLL ...
g77 -O3 -Wall -c knnimpute.f -o knnimpute.o
knnimpute.f: In subroutine `twomis':
In file included from knnimpute.f:0:
knnimpute.f:132: warning: 'dold' might be used uninitialized in this function
windres -I d:/biocbld/bbs-2.0-bioc/R/include -i impute_res.rc -o impute_res.o
gcc -shared -s -o impute.dll impute.def knnimpute.o impute_res.o -Ld:/biocbld/bbs-2.0-bioc/R/bin -lg2c -lR
... DLL made
installing DLL
installing R files
installing data files
installing man source files
installing indices
not zipping data
installing help
>>> Building/Updating help pages for package 'impute'
Formats: text html latex example chm
impute.knn text html latex example chm
khanmiss text html latex example chm
Microsoft HTML Help Compiler 4.74.8702
Compiling d:\biocbld\bbs-2.0-bioc\meat\impute.Rcheck\00_pkg_src\impute\chm\impute.chm
Compile time: 0 minutes, 0 seconds
3 Topics
4 Local links
0 Internet links
1 Graphic
Created d:\biocbld\bbs-2.0-bioc\meat\impute.Rcheck\00_pkg_src\impute\chm\impute.chm, 21,663 bytes
Compression increased file by 7,992 bytes.
adding MD5 sums
* DONE (impute)