Back to the "Multiple platform build/check report"
| Package 177/214 | Hostname | OS | Arch | BUILD | CHECK | BUILD BIN |
ROC1.10.0Vince CareyLast Changed Date: 2007-04-24 11:21:48 -0700 Last Changed Rev: 24214 | lamb1 | Linux (SUSE 10.1) | x86_64 | OK | OK | |
| wellington | Linux (SUSE 9.2) | i686 | OK | OK | ||
| churchill | Solaris 2.9 | sparc | OK | OK | ||
| lemming | Windows Server 2003 (32-bit) | x64 | OK | OK | [ OK ] | |
| liverpool | Windows Server 2003 R2 (32-bit) | x64 | OK | OK | OK | |
| derby | Mac OS X (10.4.9) | i686 | OK | OK |
| Package: ROC |
| Version: 1.10.0 |
| Command: D:\biocbld\bbs-2.0-bioc\R\bin\R.exe CMD INSTALL --build --library=ROC.BUILDBINinstdir ROC_1.10.0.tar.gz |
| RetCode: 0 |
| Time: 9.0 seconds |
| Status: OK |
| PackageFile: ROC_1.10.0.zip |
installing R.css in D:/biocbld/bbs-2.0-bioc/meat/ROC.BUILDBINinstdir
Using auto-selected zip options ''
---------- Making package ROC ------------
adding build stamp to DESCRIPTION
installing NAMESPACE file and metadata
making DLL ...
making ROC.d from ROC.cc
g++ -ID:/biocbld/bbs-2.0-bioc/R/include -Wall -O2 -c ROC.cc -o ROC.o
windres -I D:/biocbld/bbs-2.0-bioc/R/include -i ROC_res.rc -o ROC_res.o
g++ -shared -s -o ROC.dll ROC.def ROC.o ROC_res.o -LD:/biocbld/bbs-2.0-bioc/R/bin -lR
... DLL made
installing DLL
installing R files
save image
installing inst files
installing man source files
installing indices
installing help
>>> Building/Updating help pages for package 'ROC'
Formats: text html latex example chm
AUC text html latex example chm
plot-methods text html latex example chm
rocc-class text html latex example chm
rocdemo.sca text html latex example chm
trapezint text html latex example chm
Microsoft HTML Help Compiler 4.74.8702
Compiling d:\biocbld\bbs-2.0-bioc\meat\R.INSTALL.1656\ROC\chm\ROC.chm
Compile time: 0 minutes, 0 seconds
6 Topics
16 Local links
0 Internet links
1 Graphic
Created d:\biocbld\bbs-2.0-bioc\meat\R.INSTALL.1656\ROC\chm\ROC.chm, 20,878 bytes
Compression increased file by 2,271 bytes.
adding MD5 sums
packaged installation of package 'ROC' as ROC_1.10.0.zip
* DONE (ROC)