Back to the "Multiple platform build/check report"
| Package 177/214 | Hostname | OS | Arch | BUILD | CHECK | BUILD BIN |
ROC1.10.0Vince CareyLast Changed Date: 2007-04-24 11:21:48 -0700 Last Changed Rev: 24214 | lamb1 | Linux (SUSE 10.1) | x86_64 | OK | OK | |
| wellington | Linux (SUSE 9.2) | i686 | OK | OK | ||
| churchill | Solaris 2.9 | sparc | OK | OK | ||
| lemming | Windows Server 2003 (32-bit) | x64 | OK | OK | OK | |
| liverpool | Windows Server 2003 R2 (32-bit) | x64 | OK | OK | OK | |
| derby | Mac OS X (10.4.9) | i686 | OK | [ OK ] |
| Package: ROC |
| Version: 1.10.0 |
| Command: /Library/Frameworks/R.framework/Resources/bin/R CMD check ROC_1.10.0.tar.gz |
| RetCode: 0 |
| Time: 52.6 seconds |
| Status: OK |
| CheckDir: ROC.Rcheck |
| Warnings: 0 |
* checking for working latex ... OK * using log directory '/Users/biocbuild/bbs-2.0-bioc/meat/ROC.Rcheck' * using R version 2.5.0 (2007-04-23) * checking for file 'ROC/DESCRIPTION' ... OK * this is package 'ROC' version '1.10.0' * checking package dependencies ... OK * checking if this is a source package ... OK * checking whether package 'ROC' can be installed ... OK * checking package directory ... OK * checking for portable file names ... OK * checking for sufficient/correct file permissions ... OK * checking DESCRIPTION meta-information ... OK * checking top-level files ... OK * checking index information ... OK * checking package subdirectories ... OK * checking R files for non-ASCII characters ... OK * checking R files for syntax errors ... OK * checking whether the package can be loaded ... OK * checking whether the package can be loaded with stated dependencies ... OK * checking whether the name space can be loaded with stated dependencies ... OK * checking for unstated dependencies in R code ... OK * checking S3 generic/method consistency ... OK * checking replacement functions ... OK * checking foreign function calls ... OK * checking R code for possible problems ... OK * checking Rd files ... OK * checking Rd cross-references ... OK * checking for missing documentation entries ... OK * checking for code/documentation mismatches ... OK * checking Rd \usage sections ... OK * checking for CRLF line endings in C/C++/Fortran sources/headers ... OK * checking for portable use of $BLAS_LIBS ... OK * creating ROC-Ex.R ... OK * checking examples ... OK * checking package vignettes in 'inst/doc' ... OK * creating ROC-manual.tex ... OK * checking ROC-manual.tex ... OK
ROC.Rcheck/00install.out:
* Installing *source* package 'ROC' ...
** libs
** arch - i386
g++-4.0 -arch i386 -isysroot /Developer/SDKs/MacOSX10.4u.sdk -no-cpp-precomp -I/Library/Frameworks/R.framework/Resources/include -I/Library/Frameworks/R.framework/Resources/include/i386 -msse3 -fPIC -g -O2 -march=nocona -c ROC.cc -o ROC.o
g++-4.0 -arch i386 -isysroot /Developer/SDKs/MacOSX10.4u.sdk -dynamiclib -Wl,-macosx_version_min -Wl,10.3 -undefined dynamic_lookup -single_module -multiply_defined suppress -L/usr/local/lib -o ROC.so ROC.o -F/Library/Frameworks/R.framework/.. -framework R
** arch - ppc
g++-4.0 -arch ppc -isysroot /Developer/SDKs/MacOSX10.4u.sdk -no-cpp-precomp -I/Library/Frameworks/R.framework/Resources/include -I/Library/Frameworks/R.framework/Resources/include/ppc -I/usr/local/include -fPIC -g -O2 -c ROC.cc -o ROC.o
g++-4.0 -arch ppc -isysroot /Developer/SDKs/MacOSX10.4u.sdk -dynamiclib -Wl,-macosx_version_min -Wl,10.3 -undefined dynamic_lookup -single_module -multiply_defined suppress -L/usr/local/lib -o ROC.so ROC.o -F/Library/Frameworks/R.framework/.. -framework R
** R
** inst
** save image
** help
>>> Building/Updating help pages for package 'ROC'
Formats: text html latex example
AUC text html latex example
plot-methods text html latex example
rocc-class text html latex example
rocdemo.sca text html latex example
trapezint text html latex example
** building package indices ...
* DONE (ROC)