Back to the "Multiple platform build/check report"
| Package 108/214 | Hostname | OS | Arch | BUILD | CHECK | BUILD BIN |
LMGene1.6.0John TillinghastLast Changed Date: 2007-04-24 11:21:48 -0700 Last Changed Rev: 24214 | lamb1 | Linux (SUSE 10.1) | x86_64 | OK | WARNINGS | |
| wellington | Linux (SUSE 9.2) | i686 | OK | WARNINGS | ||
| churchill | Solaris 2.9 | sparc | OK | WARNINGS | ||
| lemming | Windows Server 2003 (32-bit) | x64 | OK | WARNINGS | OK | |
| liverpool | Windows Server 2003 R2 (32-bit) | x64 | [ OK ] | WARNINGS | OK | |
| derby | Mac OS X (10.4.9) | i686 | OK | WARNINGS |
| Package: LMGene |
| Version: 1.6.0 |
| Command: E:\biocbld\bbs-2.0-bioc\R\bin\R.exe CMD build LMGene |
| RetCode: 0 |
| Time: 63.1 seconds |
| Status: OK |
| PackageFile: LMGene_1.6.0.tar.gz |
* checking for file 'LMGene/DESCRIPTION' ... OK
* preparing 'LMGene':
* checking DESCRIPTION meta-information ... OK
* installing the package to re-build vignettes
installing R.css in E:/biocbld/bbs-2.0-bioc/tmpdir/Rinst403660037
---------- Making package LMGene ------------
adding build stamp to DESCRIPTION
installing R files
installing inst files
installing data files
installing man source files
installing indices
not zipping data
installing help
>>> Building/Updating help pages for package 'LMGene'
Formats: text html latex example chm
LMGene text html latex example chm
genediff text html latex example chm
glog text html latex example chm
jggrad2 text html latex example chm
jglog text html latex example chm
lnorm text html latex example chm
mlm2lm text html latex example chm
msa text html latex example chm
msecalc text html latex example chm
neweS text html latex example chm
norm text html latex example chm
pvadjust text html latex example chm
rowaov text html latex example chm
rowlist text html latex example chm
tranest text html latex example chm
tranest2 text html latex example chm
vlist text html latex example chm
Microsoft HTML Help Compiler 4.74.8702
Compiling e:\biocbld\bbs-2.0-bioc\meat\LMGene\chm\LMGene.chm
Compile time: 0 minutes, 0 seconds
18 Topics
74 Local links
16 Internet links
1 Graphic
Created e:\biocbld\bbs-2.0-bioc\meat\LMGene\chm\LMGene.chm, 31,901 bytes
Compression decreased file by 23,546 bytes.
adding MD5 sums
* DONE (LMGene)
* creating vignettes ... OK
* removing junk files
* checking for LF line-endings in source files
* checking for empty or unneeded directories
* building 'LMGene_1.6.0.tar.gz'