Back to the "Multiple platform build/check report"
| Package 105/214 | Hostname | OS | Arch | BUILD | CHECK | BUILD BIN |
LBE1.4.0Cyril DalmassoLast Changed Date: 2007-04-24 11:21:48 -0700 Last Changed Rev: 24214 | lamb1 | Linux (SUSE 10.1) | x86_64 | OK | OK | |
| wellington | Linux (SUSE 9.2) | i686 | OK | OK | ||
| churchill | Solaris 2.9 | sparc | OK | OK | ||
| lemming | Windows Server 2003 (32-bit) | x64 | OK | OK | OK | |
| liverpool | Windows Server 2003 R2 (32-bit) | x64 | OK | OK | [ OK ] | |
| derby | Mac OS X (10.4.9) | i686 | OK | OK |
| Package: LBE |
| Version: 1.4.0 |
| Command: E:\biocbld\bbs-2.0-bioc\R\bin\R.exe CMD INSTALL --build --library=LBE.BUILDBINinstdir LBE_1.4.0.tar.gz |
| RetCode: 0 |
| Time: 16.0 seconds |
| Status: OK |
| PackageFile: LBE_1.4.0.zip |
installing R.css in E:/biocbld/bbs-2.0-bioc/meat/LBE.BUILDBINinstdir
Using auto-selected zip options 'LBE-ZIPDATA=zip'
---------- Making package LBE ------------
adding build stamp to DESCRIPTION
installing R files
installing inst files
installing data files
installing man source files
installing indices
zipping data
installing help
>>> Building/Updating help pages for package 'LBE'
Formats: text html latex example chm
LBE-package text html latex chm
LBE text html latex example chm
LBEa text html latex example chm
LBEplot text html latex example chm
LBEsummary text html latex example chm
LBEwrite text html latex example chm
golub.pval text html latex chm
hedenfalk.pval text html latex chm
Microsoft HTML Help Compiler 4.74.8702
Compiling e:\biocbld\bbs-2.0-bioc\meat\R.INSTALL.272\LBE\chm\LBE.chm
Compile time: 0 minutes, 0 seconds
9 Topics
36 Local links
0 Internet links
1 Graphic
Created e:\biocbld\bbs-2.0-bioc\meat\R.INSTALL.272\LBE\chm\LBE.chm, 26,630 bytes
Compression decreased file by 3,625 bytes.
adding MD5 sums
packaged installation of package 'LBE' as LBE_1.4.0.zip
* DONE (LBE)