Back to the "Multiple platform build/check report"
| Package 105/214 | Hostname | OS | Arch | BUILD | CHECK | BUILD BIN |
LBE1.4.0Cyril DalmassoLast Changed Date: 2007-04-24 11:21:48 -0700 Last Changed Rev: 24214 | lamb1 | Linux (SUSE 10.1) | x86_64 | OK | OK | |
| wellington | Linux (SUSE 9.2) | i686 | OK | OK | ||
| churchill | Solaris 2.9 | sparc | OK | OK | ||
| lemming | Windows Server 2003 (32-bit) | x64 | OK | [ OK ] | OK | |
| liverpool | Windows Server 2003 R2 (32-bit) | x64 | OK | OK | OK | |
| derby | Mac OS X (10.4.9) | i686 | OK | OK |
| Package: LBE |
| Version: 1.4.0 |
| Command: D:\biocbld\bbs-2.0-bioc\R\bin\R.exe CMD check LBE_1.4.0.tar.gz |
| RetCode: 0 |
| Time: 37.5 seconds |
| Status: OK |
| CheckDir: LBE.Rcheck |
| Warnings: 0 |
* checking for working latex ... OK * using log directory 'D:/biocbld/bbs-2.0-bioc/meat/LBE.Rcheck' * using R version 2.5.0 (2007-04-23) * checking for file 'LBE/DESCRIPTION' ... OK * checking extension type ... Package * this is package 'LBE' version '1.4.0' * checking package dependencies ... OK * checking if this is a source package ... OK * checking whether package 'LBE' can be installed ... OK * checking package directory ... OK * checking for portable file names ... OK * checking DESCRIPTION meta-information ... OK * checking top-level files ... OK * checking index information ... OK * checking package subdirectories ... OK * checking R files for non-ASCII characters ... OK * checking R files for syntax errors ... OK * checking whether the package can be loaded ... OK * checking whether the package can be loaded with stated dependencies ... OK * checking for unstated dependencies in R code ... OK * checking S3 generic/method consistency ... OK * checking replacement functions ... OK * checking foreign function calls ... OK * checking R code for possible problems ... OK * checking Rd files ... OK * checking Rd cross-references ... OK * checking for missing documentation entries ... OK * checking for code/documentation mismatches ... OK * checking Rd \usage sections ... OK * checking data for non-ASCII characters ... OK * creating LBE-Ex.R ... OK * checking examples ... OK * checking package vignettes in 'inst/doc' ... OK * creating LBE-manual.tex ... OK * checking LBE-manual.tex ... OK
LBE.Rcheck/00install.out:
installing R.css in D:/biocbld/bbs-2.0-bioc/meat/LBE.Rcheck
---------- Making package LBE ------------
adding build stamp to DESCRIPTION
installing R files
installing inst files
installing data files
installing man source files
installing indices
not zipping data
installing help
>>> Building/Updating help pages for package 'LBE'
Formats: text html latex example chm
LBE-package text html latex chm
LBE text html latex example chm
LBEa text html latex example chm
LBEplot text html latex example chm
LBEsummary text html latex example chm
LBEwrite text html latex example chm
golub.pval text html latex chm
hedenfalk.pval text html latex chm
Microsoft HTML Help Compiler 4.74.8702
Compiling d:\biocbld\bbs-2.0-bioc\meat\LBE.Rcheck\00_pkg_src\LBE\chm\LBE.chm
Compile time: 0 minutes, 0 seconds
9 Topics
36 Local links
0 Internet links
1 Graphic
Created d:\biocbld\bbs-2.0-bioc\meat\LBE.Rcheck\00_pkg_src\LBE\chm\LBE.chm, 26,628 bytes
Compression decreased file by 3,627 bytes.
adding MD5 sums
* DONE (LBE)