Back to the "Multiple platform build/check report"
| Package 38/214 | Hostname | OS | Arch | BUILD | CHECK | BUILD BIN |
BufferedMatrixMethods1.0.0B. M. BolstadLast Changed Date: 2007-04-24 11:21:48 -0700 Last Changed Rev: 24214 | lamb1 | Linux (SUSE 10.1) | x86_64 | OK | OK | |
| wellington | Linux (SUSE 9.2) | i686 | OK | OK | ||
| churchill | Solaris 2.9 | sparc | OK | OK | ||
| lemming | Windows Server 2003 (32-bit) | x64 | OK | OK | [ OK ] | |
| liverpool | Windows Server 2003 R2 (32-bit) | x64 | OK | OK | OK | |
| derby | Mac OS X (10.4.9) | i686 | OK | OK |
| Package: BufferedMatrixMethods |
| Version: 1.0.0 |
| Command: D:\biocbld\bbs-2.0-bioc\R\bin\R.exe CMD INSTALL --build --library=BufferedMatrixMethods.BUILDBINinstdir BufferedMatrixMethods_1.0.0.tar.gz |
| RetCode: 0 |
| Time: 8.0 seconds |
| Status: OK |
| PackageFile: BufferedMatrixMethods_1.0.0.zip |
installing R.css in D:/biocbld/bbs-2.0-bioc/meat/BufferedMatrixMethods.BUILDBINinstdir
Using auto-selected zip options ''
---------- Making package BufferedMatrixMethods ------------
adding build stamp to DESCRIPTION
making DLL ...
making init_package.d from init_package.c
making preprocess_bm.d from preprocess_bm.c
gcc -ID:/biocbld/bbs-2.0-bioc/R/include -I"D:/biocbld/bbs-2.0-bioc/R/library/BufferedMatrix/include" -Wall -O3 -std=gnu99 -c init_package.c -o init_package.o
gcc -ID:/biocbld/bbs-2.0-bioc/R/include -I"D:/biocbld/bbs-2.0-bioc/R/library/BufferedMatrix/include" -Wall -O3 -std=gnu99 -c preprocess_bm.c -o preprocess_bm.o
preprocess_bm.c: In function `bm_rma_bg_correct':
preprocess_bm.c:342: warning: unused variable `i'
preprocess_bm.c: In function `R_bm_rma_bg_correct':
preprocess_bm.c:376: warning: unused variable `current_mode'
preprocess_bm.c: In function `R_bm_quantile_normalize':
preprocess_bm.c:587: warning: unused variable `current_mode'
preprocess_bm.c: At top level:
preprocess_bm.c:451: warning: 'min' defined but not used
windres -I D:/biocbld/bbs-2.0-bioc/R/include -i BufferedMatrixMethods_res.rc -o BufferedMatrixMethods_res.o
gcc -shared -s -o BufferedMatrixMethods.dll BufferedMatrixMethods.def init_package.o preprocess_bm.o BufferedMatrixMethods_res.o -LD:/biocbld/bbs-2.0-bioc/R/bin -lR
... DLL made
installing DLL
installing R files
installing man source files
installing indices
installing help
>>> Building/Updating help pages for package 'BufferedMatrixMethods'
Formats: text html latex example chm
rmapreprocess.bufferedmatrix text html latex chm
Microsoft HTML Help Compiler 4.74.8702
Compiling d:\biocbld\bbs-2.0-bioc\meat\R.INSTALL.2516\BufferedMatrixMethods\chm\BufferedMatrixMethods.chm
Compile time: 0 minutes, 0 seconds
2 Topics
5 Local links
0 Internet links
1 Graphic
Created d:\biocbld\bbs-2.0-bioc\meat\R.INSTALL.2516\BufferedMatrixMethods\chm\BufferedMatrixMethods.chm, 16,602 bytes
Compression increased file by 7,133 bytes.
adding MD5 sums
packaged installation of package 'BufferedMatrixMethods' as BufferedMatrixMethods_1.0.0.zip
* DONE (BufferedMatrixMethods)