Back to the "Multiple platform build/check report"
| Package 38/214 | Hostname | OS | Arch | BUILD | CHECK | BUILD BIN |
BufferedMatrixMethods1.0.0B. M. BolstadLast Changed Date: 2007-04-24 11:21:48 -0700 Last Changed Rev: 24214 | lamb1 | Linux (SUSE 10.1) | x86_64 | OK | OK | |
| wellington | Linux (SUSE 9.2) | i686 | OK | OK | ||
| churchill | Solaris 2.9 | sparc | OK | OK | ||
| lemming | Windows Server 2003 (32-bit) | x64 | OK | OK | OK | |
| liverpool | Windows Server 2003 R2 (32-bit) | x64 | OK | OK | OK | |
| derby | Mac OS X (10.4.9) | i686 | OK | [ OK ] |
| Package: BufferedMatrixMethods |
| Version: 1.0.0 |
| Command: /Library/Frameworks/R.framework/Resources/bin/R CMD check BufferedMatrixMethods_1.0.0.tar.gz |
| RetCode: 0 |
| Time: 36.4 seconds |
| Status: OK |
| CheckDir: BufferedMatrixMethods.Rcheck |
| Warnings: 0 |
* checking for working latex ... OK * using log directory '/Users/biocbuild/bbs-2.0-bioc/meat/BufferedMatrixMethods.Rcheck' * using R version 2.5.0 (2007-04-23) * checking for file 'BufferedMatrixMethods/DESCRIPTION' ... OK * checking extension type ... Package * this is package 'BufferedMatrixMethods' version '1.0.0' * checking package dependencies ... OK * checking if this is a source package ... OK * checking whether package 'BufferedMatrixMethods' can be installed ... OK * checking package directory ... OK * checking for portable file names ... OK * checking for sufficient/correct file permissions ... OK * checking DESCRIPTION meta-information ... OK * checking top-level files ... OK * checking index information ... OK * checking package subdirectories ... OK * checking R files for non-ASCII characters ... OK * checking R files for syntax errors ... OK * checking whether the package can be loaded ... OK * checking whether the package can be loaded with stated dependencies ... OK * checking for unstated dependencies in R code ... OK * checking S3 generic/method consistency ... OK * checking replacement functions ... OK * checking foreign function calls ... OK * checking R code for possible problems ... OK * checking Rd files ... OK * checking Rd cross-references ... OK * checking for missing documentation entries ... OK * checking for code/documentation mismatches ... OK * checking Rd \usage sections ... OK * checking for CRLF line endings in C/C++/Fortran sources/headers ... OK * checking for portable use of $BLAS_LIBS ... OK * creating BufferedMatrixMethods-Ex.R ... OK * checking examples ... OK * creating BufferedMatrixMethods-manual.tex ... OK * checking BufferedMatrixMethods-manual.tex ... OK
BufferedMatrixMethods.Rcheck/00install.out:
* Installing *source* package 'BufferedMatrixMethods' ...
** libs
** arch - i386
gcc-4.0 -arch i386 -isysroot /Developer/SDKs/MacOSX10.4u.sdk -no-cpp-precomp -I/Library/Frameworks/R.framework/Resources/include -I/Library/Frameworks/R.framework/Resources/include/i386 -msse3 -I"/Library/Frameworks/R.framework/Resources/library/BufferedMatrix/include" -D__NO_MATH_INLINES -fPIC -g -O2 -std=gnu99 -march=nocona -c init_package.c -o init_package.o
gcc-4.0 -arch i386 -isysroot /Developer/SDKs/MacOSX10.4u.sdk -no-cpp-precomp -I/Library/Frameworks/R.framework/Resources/include -I/Library/Frameworks/R.framework/Resources/include/i386 -msse3 -I"/Library/Frameworks/R.framework/Resources/library/BufferedMatrix/include" -D__NO_MATH_INLINES -fPIC -g -O2 -std=gnu99 -march=nocona -c preprocess_bm.c -o preprocess_bm.o
gcc-4.0 -arch i386 -isysroot /Developer/SDKs/MacOSX10.4u.sdk -dynamiclib -Wl,-macosx_version_min -Wl,10.3 -undefined dynamic_lookup -single_module -multiply_defined suppress -L/usr/local/lib -o BufferedMatrixMethods.so init_package.o preprocess_bm.o -F/Library/Frameworks/R.framework/.. -framework R
** arch - ppc
gcc-4.0 -arch ppc -isysroot /Developer/SDKs/MacOSX10.4u.sdk -std=gnu99 -no-cpp-precomp -I/Library/Frameworks/R.framework/Resources/include -I/Library/Frameworks/R.framework/Resources/include/ppc -I/usr/local/include -I"/Library/Frameworks/R.framework/Resources/library/BufferedMatrix/include" -fPIC -g -O2 -c init_package.c -o init_package.o
gcc-4.0 -arch ppc -isysroot /Developer/SDKs/MacOSX10.4u.sdk -std=gnu99 -no-cpp-precomp -I/Library/Frameworks/R.framework/Resources/include -I/Library/Frameworks/R.framework/Resources/include/ppc -I/usr/local/include -I"/Library/Frameworks/R.framework/Resources/library/BufferedMatrix/include" -fPIC -g -O2 -c preprocess_bm.c -o preprocess_bm.o
gcc-4.0 -arch ppc -isysroot /Developer/SDKs/MacOSX10.4u.sdk -std=gnu99 -dynamiclib -Wl,-macosx_version_min -Wl,10.3 -undefined dynamic_lookup -single_module -multiply_defined suppress -L/usr/local/lib -o BufferedMatrixMethods.so init_package.o preprocess_bm.o -F/Library/Frameworks/R.framework/.. -framework R
** R
** help
>>> Building/Updating help pages for package 'BufferedMatrixMethods'
Formats: text html latex example
rmapreprocess.bufferedmatrix text html latex
** building package indices ...
* DONE (BufferedMatrixMethods)