Back to the "Multiple platform build/check report"
| Package 184/188 | Hostname | OS | Arch | BUILD | CHECK | BUILD BIN | 
weaver1.0.1Seth FalconLast Changed Date: 2006-10-10 20:56:20 -0700 Last Changed Rev: 20501  | lamb1 | Linux (SUSE 10.1) | x86_64 | OK | OK | |
| wellington | Linux (SUSE 9.2) | i686 | OK | OK | ||
| churchill | Solaris 2.9 | sparc | OK | OK | ||
| lemming | Windows Server 2003 | x86_64 | OK | [ OK ] | OK | 
| Package: weaver | 
| Version: 1.0.1 | 
| Command: D:\biocbld\bbs-1.9\R\bin\R.exe CMD check weaver_1.0.1.tar.gz | 
| RetCode: 0 | 
| Time: 38.5 seconds | 
| Status: OK | 
| CheckDir: weaver.Rcheck | 
| Warnings: 0 | 
* checking for working latex ... OK * using log directory 'D:/biocbld/bbs-1.9/meat/weaver.Rcheck' * using R version 2.4.1 (2006-12-18) * checking for file 'weaver/DESCRIPTION' ... OK * this is package 'weaver' version '1.0.1' * checking package dependencies ... OK * checking if this is a source package ... OK * checking whether package 'weaver' can be installed ... OK * checking package directory ... OK * checking for portable file names ... OK * checking DESCRIPTION meta-information ... OK * checking top-level files ... OK * checking index information ... OK * checking package subdirectories ... OK * checking R files for syntax errors ... OK * checking R files for non-ASCII characters ... OK * checking whether the package can be loaded ... OK * checking whether the package can be loaded with stated dependencies ... OK * checking S3 generic/method consistency ... OK * checking replacement functions ... OK * checking foreign function calls ... OK * checking R code for possible problems ... OK * checking Rd files ... OK * checking Rd cross-references ... OK * checking for missing documentation entries ... OK * checking for code/documentation mismatches ... OK * checking Rd \usage sections ... OK * creating weaver-Ex.R ... OK * checking examples ... OK * checking package vignettes in 'inst/doc' ... OK * creating weaver-manual.tex ... OK * checking weaver-manual.tex ... OK
weaver.Rcheck/00install.out:
installing R.css in D:/biocbld/bbs-1.9/meat/weaver.Rcheck
---------- Making package weaver ------------
  adding build stamp to DESCRIPTION
  installing R files
  installing inst files
  installing man source files
  installing indices
  installing help
 >>> Building/Updating help pages for package 'weaver'
     Formats: text html latex example chm 
  internal                          text    html    latex           chm
  weaver                            text    html    latex   example chm
Microsoft HTML Help Compiler 4.74.8702
Compiling d:\biocbld\bbs-1.9\meat\weaver.Rcheck\00_pkg_src\weaver\chm\weaver.chm
Compile time: 0 minutes, 0 seconds
3	Topics
23	Local links
1	Internet link
1	Graphic
Created d:\biocbld\bbs-1.9\meat\weaver.Rcheck\00_pkg_src\weaver\chm\weaver.chm, 21,717 bytes
Compression increased file by 1,550 bytes.
  preparing package weaver for lazy loading
Loading required package: digest
Loading required package: tools
Loading required package: codetools
  adding MD5 sums
* DONE (weaver)