Back to the "Multiple platform build/check report"
| Package 184/188 | Hostname | OS | Arch | BUILD | CHECK | BUILD BIN |
weaver1.0.1Seth FalconLast Changed Date: 2006-10-10 20:56:20 -0700 Last Changed Rev: 20501 | lamb1 | Linux (SUSE 10.1) | x86_64 | OK | OK | |
| wellington | Linux (SUSE 9.2) | i686 | OK | OK | ||
| churchill | Solaris 2.9 | sparc | OK | OK | ||
| lemming | Windows Server 2003 | x86_64 | OK | OK | [ OK ] |
| Package: weaver |
| Version: 1.0.1 |
| Command: D:\biocbld\bbs-1.9\R\bin\R.exe CMD INSTALL --build --library=weaver.instdir weaver_1.0.1.tar.gz |
| RetCode: 0 |
| Time: 8.0 seconds |
| Status: OK |
| PackageFile: weaver_1.0.1.zip |
installing R.css in D:/biocbld/bbs-1.9/meat/weaver.instdir
Using auto-selected zip options ''
---------- Making package weaver ------------
adding build stamp to DESCRIPTION
installing R files
installing inst files
installing man source files
installing indices
installing help
>>> Building/Updating help pages for package 'weaver'
Formats: text html latex example chm
internal text html latex chm
weaver text html latex example chm
Microsoft HTML Help Compiler 4.74.8702
Compiling d:\biocbld\bbs-1.9\meat\R.INSTALL\weaver\chm\weaver.chm
Compile time: 0 minutes, 0 seconds
3 Topics
23 Local links
1 Internet link
1 Graphic
Created d:\biocbld\bbs-1.9\meat\R.INSTALL\weaver\chm\weaver.chm, 21,717 bytes
Compression increased file by 1,550 bytes.
preparing package weaver for lazy loading
Loading required package: digest
Loading required package: tools
Loading required package: codetools
adding MD5 sums
packaged installation of package 'weaver' as weaver_1.0.1.zip
* DONE (weaver)