Back to the "Multiple platform build/check report"
| Package 125/188 | Hostname | OS | Arch | BUILD | CHECK | BUILD BIN | 
pairseqsim1.8.0Witold WolskiLast Changed Date: 2006-10-03 12:16:03 -0700 Last Changed Rev: 20373  | lamb1 | Linux (SUSE 10.1) | x86_64 | OK | OK | |
| wellington | Linux (SUSE 9.2) | i686 | OK | OK | ||
| churchill | Solaris 2.9 | sparc | OK | OK | ||
| lemming | Windows Server 2003 | x86_64 | OK | [ OK ] | OK | 
| Package: pairseqsim | 
| Version: 1.8.0 | 
| Command: D:\biocbld\bbs-1.9\R\bin\R.exe CMD check pairseqsim_1.8.0.tar.gz | 
| RetCode: 0 | 
| Time: 75.5 seconds | 
| Status: OK | 
| CheckDir: pairseqsim.Rcheck | 
| Warnings: 0 | 
* checking for working latex ... OK * using log directory 'D:/biocbld/bbs-1.9/meat/pairseqsim.Rcheck' * using R version 2.4.1 (2006-12-18) * checking for file 'pairseqsim/DESCRIPTION' ... OK * this is package 'pairseqsim' version '1.8.0' * checking package dependencies ... OK * checking if this is a source package ... OK * checking whether package 'pairseqsim' can be installed ... OK * checking package directory ... OK * checking for portable file names ... OK * checking DESCRIPTION meta-information ... OK * checking top-level files ... OK * checking index information ... OK * checking package subdirectories ... OK * checking R files for syntax errors ... OK * checking R files for non-ASCII characters ... OK * checking whether the package can be loaded ... OK * checking whether the package can be loaded with stated dependencies ... OK * checking S3 generic/method consistency ... OK * checking replacement functions ... OK * checking foreign function calls ... OK * checking R code for possible problems ... OK * checking Rd files ... OK * checking Rd cross-references ... OK * checking for missing documentation entries ... OK * checking for code/documentation mismatches ... OK * checking Rd \usage sections ... OK * checking for CRLF line endings in C/C++/Fortran sources/headers ... OK * checking for portable use of $BLAS_LIBS ... OK * creating pairseqsim-Ex.R ... OK * checking examples ... OK * checking package vignettes in 'inst/doc' ... OK * creating pairseqsim-manual.tex ... OK * checking pairseqsim-manual.tex ... OK
pairseqsim.Rcheck/00install.out:
installing R.css in D:/biocbld/bbs-1.9/meat/pairseqsim.Rcheck
---------- Making package pairseqsim ------------
  adding build stamp to DESCRIPTION
  making DLL ...
making align.d from align.c
making basic.d from basic.c
making callalign.d from callalign.c
gcc   -Id:/biocbld/bbs-1.9/R/include  -Wall -O2 -std=gnu99   -c align.c -o align.o
gcc   -Id:/biocbld/bbs-1.9/R/include  -Wall -O2 -std=gnu99   -c basic.c -o basic.o
gcc   -Id:/biocbld/bbs-1.9/R/include  -Wall -O2 -std=gnu99   -c callalign.c -o callalign.o
windres --include-dir d:/biocbld/bbs-1.9/R/include  -i pairseqsim_res.rc -o pairseqsim_res.o
gcc  -shared -s  -o pairseqsim.dll pairseqsim.def align.o basic.o callalign.o pairseqsim_res.o  -Ld:/biocbld/bbs-1.9/R/bin    -lR
  ... DLL made
  installing DLL
  installing R files
  installing inst files
  installing data files
  installing man source files
  installing indices
  not zipping data
  installing help
 >>> Building/Updating help pages for package 'pairseqsim'
     Formats: text html latex example chm 
  AAAlignment-class                 text    html    latex   example chm
  AAAlphabet-class                  text    html    latex   example chm
  AASequence-class                  text    html    latex   example chm
  AASequence                        text    html    latex   example chm
  AASequenceList-class              text    html    latex   example chm
  EPAM110                           text    html    latex   example chm
  Submatrix-class                   text    html    latex           chm
  listdist-methods                  text    html    latex           chm
  readFasta-methods                 text    html    latex   example chm
  salign-methods                    text    html    latex   example chm
  sequlist                          text    html    latex   example chm
  testalign-methods                 text    html    latex           chm
Microsoft HTML Help Compiler 4.74.8702
Compiling d:\biocbld\bbs-1.9\meat\pairseqsim.Rcheck\00_pkg_src\pairseqsim\chm\pairseqsim.chm
Compile time: 0 minutes, 0 seconds
13	Topics
129	Local links
11	Internet links
1	Graphic
Created d:\biocbld\bbs-1.9\meat\pairseqsim.Rcheck\00_pkg_src\pairseqsim\chm\pairseqsim.chm, 28,423 bytes
Compression decreased file by 37,369 bytes.
  adding MD5 sums
* DONE (pairseqsim)