Back to the "Multiple platform build/check report"
| Package 125/188 | Hostname | OS | Arch | BUILD | CHECK | BUILD BIN |
pairseqsim1.8.0Witold WolskiLast Changed Date: 2006-10-03 12:16:03 -0700 Last Changed Rev: 20373 | lamb1 | Linux (SUSE 10.1) | x86_64 | OK | OK | |
| wellington | Linux (SUSE 9.2) | i686 | OK | OK | ||
| churchill | Solaris 2.9 | sparc | OK | OK | ||
| lemming | Windows Server 2003 | x86_64 | OK | OK | [ OK ] |
| Package: pairseqsim |
| Version: 1.8.0 |
| Command: D:\biocbld\bbs-1.9\R\bin\R.exe CMD INSTALL --build --library=pairseqsim.instdir pairseqsim_1.8.0.tar.gz |
| RetCode: 0 |
| Time: 11.0 seconds |
| Status: OK |
| PackageFile: pairseqsim_1.8.0.zip |
installing R.css in D:/biocbld/bbs-1.9/meat/pairseqsim.instdir
Using auto-selected zip options 'pairseqsim-ZIPDATA=zip'
---------- Making package pairseqsim ------------
adding build stamp to DESCRIPTION
making DLL ...
making align.d from align.c
making basic.d from basic.c
making callalign.d from callalign.c
gcc -ID:/biocbld/bbs-1.9/R/include -Wall -O2 -std=gnu99 -c align.c -o align.o
gcc -ID:/biocbld/bbs-1.9/R/include -Wall -O2 -std=gnu99 -c basic.c -o basic.o
gcc -ID:/biocbld/bbs-1.9/R/include -Wall -O2 -std=gnu99 -c callalign.c -o callalign.o
windres --include-dir D:/biocbld/bbs-1.9/R/include -i pairseqsim_res.rc -o pairseqsim_res.o
gcc -shared -s -o pairseqsim.dll pairseqsim.def align.o basic.o callalign.o pairseqsim_res.o -LD:/biocbld/bbs-1.9/R/bin -lR
... DLL made
installing DLL
installing R files
installing inst files
installing data files
installing man source files
installing indices
zipping data
installing help
>>> Building/Updating help pages for package 'pairseqsim'
Formats: text html latex example chm
AAAlignment-class text html latex example chm
AAAlphabet-class text html latex example chm
AASequence-class text html latex example chm
AASequence text html latex example chm
AASequenceList-class text html latex example chm
EPAM110 text html latex example chm
Submatrix-class text html latex chm
listdist-methods text html latex chm
readFasta-methods text html latex example chm
salign-methods text html latex example chm
sequlist text html latex example chm
testalign-methods text html latex chm
Microsoft HTML Help Compiler 4.74.8702
Compiling d:\biocbld\bbs-1.9\meat\R.INSTALL\pairseqsim\chm\pairseqsim.chm
Compile time: 0 minutes, 0 seconds
13 Topics
129 Local links
11 Internet links
1 Graphic
Created d:\biocbld\bbs-1.9\meat\R.INSTALL\pairseqsim\chm\pairseqsim.chm, 28,423 bytes
Compression decreased file by 37,369 bytes.
adding MD5 sums
packaged installation of package 'pairseqsim' as pairseqsim_1.8.0.zip
* DONE (pairseqsim)