Back to the "Multiple platform build/check report"
| Package 35/188 | Hostname | OS | Arch | BUILD | CHECK | BUILD BIN |
BSgenome1.2.3H. PagesLast Changed Date: 2006-10-06 19:11:48 -0700 Last Changed Rev: 20456 | lamb1 | Linux (SUSE 10.1) | x86_64 | OK | OK | |
| wellington | Linux (SUSE 9.2) | i686 | OK | OK | ||
| churchill | Solaris 2.9 | sparc | OK | OK | ||
| lemming | Windows Server 2003 | x86_64 | OK | OK | [ OK ] |
| Package: BSgenome |
| Version: 1.2.3 |
| Command: D:\biocbld\bbs-1.9\R\bin\R.exe CMD INSTALL --build --library=BSgenome.instdir BSgenome_1.2.3.tar.gz |
| RetCode: 0 |
| Time: 8.0 seconds |
| Status: OK |
| PackageFile: BSgenome_1.2.3.zip |
installing R.css in D:/biocbld/bbs-1.9/meat/BSgenome.instdir
Using auto-selected zip options ''
---------- Making package BSgenome ------------
adding build stamp to DESCRIPTION
installing NAMESPACE file and metadata
installing R files
save image
Loading required package: Biostrings
Creating a new generic function for "names" in "BSgenome"
installing man source files
installing indices
installing help
>>> Building/Updating help pages for package 'BSgenome'
Formats: text html latex example chm
BSgenome-class text html latex example chm
buildDataFiles text html latex example chm
Microsoft HTML Help Compiler 4.74.8702
Compiling d:\biocbld\bbs-1.9\meat\R.INSTALL\BSgenome\chm\BSgenome.chm
Compile time: 0 minutes, 0 seconds
3 Topics
14 Local links
0 Internet links
1 Graphic
Created d:\biocbld\bbs-1.9\meat\R.INSTALL\BSgenome\chm\BSgenome.chm, 18,671 bytes
Compression increased file by 4,165 bytes.
adding MD5 sums
packaged installation of package 'BSgenome' as BSgenome_1.2.3.zip
* DONE (BSgenome)