Back to the "Multiple platform build/check report"
| Package 35/188 | Hostname | OS | Arch | BUILD | CHECK | BUILD BIN |
BSgenome1.2.3H. PagesLast Changed Date: 2006-10-06 19:11:48 -0700 Last Changed Rev: 20456 | lamb1 | Linux (SUSE 10.1) | x86_64 | [ OK ] | OK | |
| wellington | Linux (SUSE 9.2) | i686 | OK | OK | ||
| churchill | Solaris 2.9 | sparc | OK | OK | ||
| lemming | Windows Server 2003 | x86_64 | OK | OK | OK |
| Package: BSgenome |
| Version: 1.2.3 |
| Command: /home/biocbuild/bbs-1.9/R/bin/R CMD build BSgenome |
| RetCode: 0 |
| Time: 0.5 seconds |
| Status: OK |
| PackageFile: BSgenome_1.2.3.tar.gz |
* checking for file 'BSgenome/DESCRIPTION' ... OK * preparing 'BSgenome': * checking DESCRIPTION meta-information ... OK * removing junk files * checking for LF line-endings in source files * checking for empty or unneeded directories * building 'BSgenome_1.2.3.tar.gz'