Back to the "Multiple platform build/check report"
| Package 172/172 | OS | Arch | BUILD | CHECK | BUILD BIN |
y2hStat1.2.0Tony Chiang | Linux (SUSE 9.2) | x86_64 | OK | OK | |
| Linux (SUSE 9.2) | i686 | OK | OK | ||
| Solaris 2.9 | sparc | ERROR | skipped | ||
| Linux (SUSE 10.0) | x86_64 | OK | OK | ||
| Windows Server 2003 | x86_64 | OK | [ OK ] | OK |
| Package: y2hStat |
| Version: 1.2.0 |
| Command: D:\biocbld\1.8d\R\bin\R.exe CMD check y2hStat_1.2.0.tar.gz |
| RetCode: 0 |
| Time: 708.1 seconds |
| Status: OK |
| CheckDir: y2hStat.Rcheck |
| Warnings: 0 |
* checking for working latex ... OK * using log directory 'D:/biocbld/1.8d/Rpacks/y2hStat.Rcheck' * using Version 2.3.1 (2006-06-01) * checking for file 'y2hStat/DESCRIPTION' ... OK * this is package 'y2hStat' version '1.2.0' * checking package dependencies ... OK * checking if this is a source package ... OK * checking whether package 'y2hStat' can be installed ... OK * checking package directory ... OK * checking for portable file names ... OK * checking DESCRIPTION meta-information ... OK * checking top-level files ... OK * checking index information ... OK * checking package subdirectories ... OK * checking R files for syntax errors ... OK * checking R files for library.dynam ... OK * checking S3 generic/method consistency ... OK * checking replacement functions ... OK * checking foreign function calls ... OK * checking Rd files ... OK * checking for missing documentation entries ... OK * checking for code/documentation mismatches ... OK * checking Rd \usage sections ... OK * creating y2hStat-Ex.R ... OK * checking examples ... OK * checking package vignettes in 'inst/doc' ... OK * creating y2hStat-manual.tex ... OK * checking y2hStat-manual.tex ... OK
y2hStat.Rcheck/00install.out:
installing R.css in D:/biocbld/1.8d/Rpacks/y2hStat.Rcheck
---------- Making package y2hStat ------------
adding build stamp to DESCRIPTION
installing R files
installing inst files
installing data files
installing man source files
Warning messages:
1: incomplete final line found by readLines on './man/createBPList.Rd'
2: incomplete final line found by readLines on './man/genBPGraph.Rd'
3: incomplete final line found by readLines on './man/inNucleus.Rd'
installing indices
not zipping data
installing help
>>> Building/Updating help pages for package 'y2hStat'
Formats: text html latex example chm
baitsOnly text html latex example chm
bpMatrix text html latex example chm
collectBPStats text html latex example chm
collectIntactData text html latex example chm
collectMembranePPI text html latex chm
createBPList text html latex example chm
createTables text html latex example chm
degreeStats text html latex example chm
findComplexBP text html latex example chm
genBPGraph text html latex example chm
inNucleus text html latex example chm
intAct2Sys text html latex example chm
intActData text html latex example chm
map2Systematic text html latex example chm
map2Systematic2 text html latex chm
membranePPI text html latex example chm
nucStat text html latex example chm
ppipred text html latex example chm
recipBP text html latex example chm
sWAC2Sys text html latex example chm
symInteraction text html latex example chm
tableList text html latex example chm
y2h text html latex example chm
y2hSysGW text html latex example chm
Microsoft HTML Help Compiler 4.74.8702
Compiling d:\biocbld\1.8d\Rpacks\y2hStat.Rcheck\00_pkg_src\y2hStat\chm\y2hStat.chm
Compile time: 0 minutes, 0 seconds
25 Topics
48 Local links
1 Internet link
1 Graphic
Created d:\biocbld\1.8d\Rpacks\y2hStat.Rcheck\00_pkg_src\y2hStat\chm\y2hStat.chm, 36,875 bytes
Compression decreased file by 27,025 bytes.
adding MD5 sums
* DONE (y2hStat)