Back to the "Multiple platform build/check report"
| Package 172/172 | OS | Arch | BUILD | CHECK | BUILD BIN |
y2hStat1.2.0Tony Chiang | Linux (SUSE 9.2) | x86_64 | OK | [ OK ] | |
| Linux (SUSE 9.2) | i686 | OK | OK | ||
| Solaris 2.9 | sparc | ERROR | skipped | ||
| Linux (SUSE 10.0) | x86_64 | OK | OK | ||
| Windows Server 2003 | x86_64 | OK | OK | OK |
| Package: y2hStat |
| Version: 1.2.0 |
| Command: /loc/biocbuild/1.8d/R/bin/R CMD check y2hStat_1.2.0.tar.gz |
| RetCode: 0 |
| Time: 1069.4 seconds |
| Status: OK |
| CheckDir: y2hStat.Rcheck |
| Warnings: 0 |
* checking for working latex ... OK * using log directory '/loc/biocbuild/1.8d/Rpacks/y2hStat.Rcheck' * using Version 2.3.1 (2006-06-01) * checking for file 'y2hStat/DESCRIPTION' ... OK * this is package 'y2hStat' version '1.2.0' * checking package dependencies ... OK * checking if this is a source package ... OK * checking whether package 'y2hStat' can be installed ... OK * checking package directory ... OK * checking for portable file names ... OK * checking for sufficient/correct file permissions ... OK * checking DESCRIPTION meta-information ... OK * checking top-level files ... OK * checking index information ... OK * checking package subdirectories ... OK * checking R files for syntax errors ... OK * checking R files for library.dynam ... OK * checking S3 generic/method consistency ... OK * checking replacement functions ... OK * checking foreign function calls ... OK * checking Rd files ... OK * checking for missing documentation entries ... OK * checking for code/documentation mismatches ... OK * checking Rd \usage sections ... OK * creating y2hStat-Ex.R ... OK * checking examples ... OK * checking package vignettes in 'inst/doc' ... OK * creating y2hStat-manual.tex ... OK * checking y2hStat-manual.tex ... OK
y2hStat.Rcheck/00install.out:
* Installing *source* package 'y2hStat' ...
** R
** data
** inst
** help
Warning messages:
1: incomplete final line found by readLines on './man/createBPList.Rd'
2: incomplete final line found by readLines on './man/genBPGraph.Rd'
3: incomplete final line found by readLines on './man/inNucleus.Rd'
>>> Building/Updating help pages for package 'y2hStat'
Formats: text html latex example
baitsOnly text html latex example
bpMatrix text html latex example
collectBPStats text html latex example
collectIntactData text html latex example
collectMembranePPI text html latex
createBPList text html latex example
createTables text html latex example
degreeStats text html latex example
findComplexBP text html latex example
genBPGraph text html latex example
inNucleus text html latex example
intAct2Sys text html latex example
intActData text html latex example
map2Systematic text html latex example
map2Systematic2 text html latex
membranePPI text html latex example
nucStat text html latex example
ppipred text html latex example
recipBP text html latex example
sWAC2Sys text html latex example
symInteraction text html latex example
tableList text html latex example
y2h text html latex example
y2hSysGW text html latex example
** building package indices ...
* DONE (y2hStat)