Back to the "Multiple platform build/check report"
| Package 160/172 | OS | Arch | BUILD | CHECK | BUILD BIN |
ssize1.4.0Gregory R. Warnes | Linux (SUSE 9.2) | x86_64 | OK | OK | |
| Linux (SUSE 9.2) | i686 | OK | OK | ||
| Solaris 2.9 | sparc | OK | OK | ||
| Linux (SUSE 10.0) | x86_64 | OK | OK | ||
| Windows Server 2003 | x86_64 | OK | [ OK ] | OK |
| Package: ssize |
| Version: 1.4.0 |
| Command: D:\biocbld\1.8d\R\bin\R.exe CMD check ssize_1.4.0.tar.gz |
| RetCode: 0 |
| Time: 66.6 seconds |
| Status: OK |
| CheckDir: ssize.Rcheck |
| Warnings: 0 |
* checking for working latex ... OK * using log directory 'D:/biocbld/1.8d/Rpacks/ssize.Rcheck' * using Version 2.3.1 (2006-06-01) * checking for file 'ssize/DESCRIPTION' ... OK * this is package 'ssize' version '1.4.0' * checking package dependencies ... OK * checking if this is a source package ... OK * checking whether package 'ssize' can be installed ... OK * checking package directory ... OK * checking for portable file names ... OK * checking DESCRIPTION meta-information ... OK * checking top-level files ... OK * checking index information ... OK * checking package subdirectories ... OK * checking R files for syntax errors ... OK * checking R files for library.dynam ... OK * checking S3 generic/method consistency ... OK * checking replacement functions ... OK * checking foreign function calls ... OK * checking Rd files ... OK * checking for missing documentation entries ... OK * checking for code/documentation mismatches ... OK * checking Rd \usage sections ... OK * creating ssize-Ex.R ... OK * checking examples ... OK * checking package vignettes in 'inst/doc' ... OK * creating ssize-manual.tex ... OK * checking ssize-manual.tex ... OK
ssize.Rcheck/00install.out:
installing R.css in D:/biocbld/1.8d/Rpacks/ssize.Rcheck
---------- Making package ssize ------------
adding build stamp to DESCRIPTION
installing R files
installing inst files
installing data files
installing man source files
installing indices
not zipping data
installing help
>>> Building/Updating help pages for package 'ssize'
Formats: text html latex example chm
exp.sd text html latex example chm
pow text html latex example chm
Microsoft HTML Help Compiler 4.74.8702
Compiling d:\biocbld\1.8d\Rpacks\ssize.Rcheck\00_pkg_src\ssize\chm\ssize.chm
Compile time: 0 minutes, 0 seconds
3 Topics
11 Local links
1 Internet link
1 Graphic
Created d:\biocbld\1.8d\Rpacks\ssize.Rcheck\00_pkg_src\ssize\chm\ssize.chm, 20,971 bytes
Compression increased file by 5,517 bytes.
adding MD5 sums
* DONE (ssize)