Back to the "Multiple platform build/check report"
| Package 160/172 | OS | Arch | BUILD | CHECK | BUILD BIN |
ssize1.4.0Gregory R. Warnes | Linux (SUSE 9.2) | x86_64 | OK | OK | |
| Linux (SUSE 9.2) | i686 | OK | OK | ||
| Solaris 2.9 | sparc | OK | OK | ||
| Linux (SUSE 10.0) | x86_64 | OK | [ OK ] | ||
| Windows Server 2003 | x86_64 | OK | OK | OK |
| Package: ssize |
| Version: 1.4.0 |
| Command: /home/biocbuild/1.8d/R/bin/R CMD check ssize_1.4.0.tar.gz |
| RetCode: 0 |
| Time: 26.5 seconds |
| Status: OK |
| CheckDir: ssize.Rcheck |
| Warnings: 0 |
* checking for working latex ... OK * using log directory '/home/biocbuild/1.8d/Rpacks/ssize.Rcheck' * using Version 2.3.1 (2006-06-01) * checking for file 'ssize/DESCRIPTION' ... OK * this is package 'ssize' version '1.4.0' * checking package dependencies ... OK * checking if this is a source package ... OK * checking whether package 'ssize' can be installed ... OK * checking package directory ... OK * checking for portable file names ... OK * checking for sufficient/correct file permissions ... OK * checking DESCRIPTION meta-information ... OK * checking top-level files ... OK * checking index information ... OK * checking package subdirectories ... OK * checking R files for syntax errors ... OK * checking R files for library.dynam ... OK * checking S3 generic/method consistency ... OK * checking replacement functions ... OK * checking foreign function calls ... OK * checking Rd files ... OK * checking for missing documentation entries ... OK * checking for code/documentation mismatches ... OK * checking Rd \usage sections ... OK * creating ssize-Ex.R ... OK * checking examples ... OK * checking package vignettes in 'inst/doc' ... OK * creating ssize-manual.tex ... OK * checking ssize-manual.tex ... OK
ssize.Rcheck/00install.out:
* Installing *source* package 'ssize' ...
** R
** data
** inst
** help
>>> Building/Updating help pages for package 'ssize'
Formats: text html latex example
exp.sd text html latex example
pow text html latex example
** building package indices ...
* DONE (ssize)