Back to the "Multiple platform build/check report"
| Package 118/172 | OS | Arch | BUILD | CHECK | BUILD BIN |
pamr1.30.0Rob TIbshirani | Linux (SUSE 9.2) | x86_64 | OK | OK | |
| Linux (SUSE 9.2) | i686 | OK | OK | ||
| Solaris 2.9 | sparc | OK | OK | ||
| Linux (SUSE 10.0) | x86_64 | OK | OK | ||
| Windows Server 2003 | x86_64 | OK | [ OK ] | OK |
| Package: pamr |
| Version: 1.30.0 |
| Command: D:\biocbld\1.8d\R\bin\R.exe CMD check pamr_1.30.0.tar.gz |
| RetCode: 0 |
| Time: 53.5 seconds |
| Status: OK |
| CheckDir: pamr.Rcheck |
| Warnings: 0 |
* checking for working latex ... OK * using log directory 'D:/biocbld/1.8d/Rpacks/pamr.Rcheck' * using Version 2.3.1 (2006-06-01) * checking for file 'pamr/DESCRIPTION' ... OK * this is package 'pamr' version '1.30.0' * checking package dependencies ... OK * checking if this is a source package ... OK * checking whether package 'pamr' can be installed ... OK * checking package directory ... OK * checking for portable file names ... OK * checking DESCRIPTION meta-information ... OK * checking top-level files ... OK * checking index information ... OK * checking package subdirectories ... OK * checking R files for syntax errors ... OK * checking R files for library.dynam ... OK * checking S3 generic/method consistency ... OK * checking replacement functions ... OK * checking foreign function calls ... OK * checking Rd files ... OK * checking for missing documentation entries ... OK * checking for code/documentation mismatches ... OK * checking Rd \usage sections ... OK * checking for CRLF line endings in C/C++/Fortran sources/headers ... OK * creating pamr-Ex.R ... OK * checking examples ... OK * creating pamr-manual.tex ... OK * checking pamr-manual.tex ... OK
pamr.Rcheck/00install.out:
installing R.css in D:/biocbld/1.8d/Rpacks/pamr.Rcheck
---------- Making package pamr ------------
adding build stamp to DESCRIPTION
installing NAMESPACE file and metadata
making DLL ...
making cox_func.d from cox_func.c
gcc -Id:/biocbld/1.8d/R/include -Wall -O2 -c cox_func.c -o cox_func.o
g77 -O2 -Wall -c knnimpute.f -o knnimpute.o
knnimpute.f: In subroutine `knnimp':
In file included from knnimpute.f:0:
knnimpute.f:6: warning: unused variable 'jj'
knnimpute.f: In subroutine `twomis':
knnimpute.f:132: warning: 'dold' might be used uninitialized in this function
windres --include-dir d:/biocbld/1.8d/R/include -i pamr_res.rc -o pamr_res.o
gcc -shared -s -o pamr.dll pamr.def cox_func.o knnimpute.o pamr_res.o -Ld:/biocbld/1.8d/R/bin -lg2c -lR
... DLL made
installing DLL
installing R files
installing inst files
installing data files
installing man source files
installing indices
not zipping data
installing help
>>> Building/Updating help pages for package 'pamr'
Formats: text html latex example chm
khan text html latex chm
pamr.adaptthresh text html latex example chm
pamr.batchadjust text html latex example chm
pamr.confusion text html latex example chm
pamr.confusion.survival text html latex example chm
pamr.cv text html latex example chm
pamr.decorrelate text html latex example chm
pamr.fdr text html latex example chm
pamr.from.excel text html latex chm
pamr.geneplot text html latex example chm
pamr.indeterminate text html latex example chm
pamr.internal text html latex chm
pamr.knnimpute text html latex chm
pamr.listgenes text html latex example chm
pamr.makeclasses text html latex example chm
pamr.menu text html latex example chm
pamr.plotcen text html latex example chm
pamr.plotcv text html latex example chm
pamr.plotcvprob text html latex example chm
pamr.plotfdr text html latex example chm
pamr.plotstrata text html latex example chm
pamr.plotsurvival text html latex example chm
pamr.predict text html latex example chm
pamr.predictmany text html latex example chm
pamr.surv.to.class2 text html latex example chm
pamr.test.errors.surv.compute text html latex example chm
pamr.to.excel text html latex chm
pamr.train text html latex example chm
Microsoft HTML Help Compiler 4.74.8702
Compiling d:\biocbld\1.8d\Rpacks\pamr.Rcheck\00_pkg_src\pamr\chm\pamr.chm
Compile time: 0 minutes, 0 seconds
29 Topics
55 Local links
0 Internet links
1 Graphic
Created d:\biocbld\1.8d\Rpacks\pamr.Rcheck\00_pkg_src\pamr\chm\pamr.chm, 53,437 bytes
Compression decreased file by 54,299 bytes.
adding MD5 sums
* DONE (pamr)