Back to the "Multiple platform build/check report"
| Package 118/172 | OS | Arch | BUILD | CHECK | BUILD BIN |
pamr1.30.0Rob TIbshirani | Linux (SUSE 9.2) | x86_64 | OK | [ OK ] | |
| Linux (SUSE 9.2) | i686 | OK | OK | ||
| Solaris 2.9 | sparc | OK | OK | ||
| Linux (SUSE 10.0) | x86_64 | OK | OK | ||
| Windows Server 2003 | x86_64 | OK | OK | OK |
| Package: pamr |
| Version: 1.30.0 |
| Command: /loc/biocbuild/1.8d/R/bin/R CMD check pamr_1.30.0.tar.gz |
| RetCode: 0 |
| Time: 71.0 seconds |
| Status: OK |
| CheckDir: pamr.Rcheck |
| Warnings: 0 |
* checking for working latex ... OK * using log directory '/loc/biocbuild/1.8d/Rpacks/pamr.Rcheck' * using Version 2.3.1 (2006-06-01) * checking for file 'pamr/DESCRIPTION' ... OK * this is package 'pamr' version '1.30.0' * checking package dependencies ... OK * checking if this is a source package ... OK * checking whether package 'pamr' can be installed ... OK * checking package directory ... OK * checking for portable file names ... OK * checking for sufficient/correct file permissions ... OK * checking DESCRIPTION meta-information ... OK * checking top-level files ... OK * checking index information ... OK * checking package subdirectories ... OK * checking R files for syntax errors ... OK * checking R files for library.dynam ... OK * checking S3 generic/method consistency ... OK * checking replacement functions ... OK * checking foreign function calls ... OK * checking Rd files ... OK * checking for missing documentation entries ... OK * checking for code/documentation mismatches ... OK * checking Rd \usage sections ... OK * checking for CRLF line endings in C/C++/Fortran sources/headers ... OK * creating pamr-Ex.R ... OK * checking examples ... OK * creating pamr-manual.tex ... OK * checking pamr-manual.tex ... OK
pamr.Rcheck/00install.out:
* Installing *source* package 'pamr' ...
** libs
gcc -I/loc/biocbuild/1.8d/R/include -I/loc/biocbuild/1.8d/R/include -I/usr/local/include -fpic -g -O2 -std=gnu99 -Wall -c cox_func.c -o cox_func.o
g77 -fpic -g -O2 -Wall -c knnimpute.f -o knnimpute.o
knnimpute.f: In subroutine `knnimp':
knnimpute.f:6: warning: unused variable `jj'
knnimpute.f: In subroutine `twomis':
knnimpute.f:132: warning: `dold' might be used uninitialized in this function
gcc -shared -L/usr/local/lib64 -o pamr.so cox_func.o knnimpute.o -lg2c -lm -lgcc_s
** R
** data
** inst
** help
>>> Building/Updating help pages for package 'pamr'
Formats: text html latex example
khan text html latex
pamr.adaptthresh text html latex example
pamr.batchadjust text html latex example
pamr.confusion text html latex example
pamr.confusion.survival text html latex example
pamr.cv text html latex example
pamr.decorrelate text html latex example
pamr.fdr text html latex example
pamr.from.excel text html latex
pamr.geneplot text html latex example
pamr.indeterminate text html latex example
pamr.internal text html latex
pamr.knnimpute text html latex
pamr.listgenes text html latex example
pamr.makeclasses text html latex example
pamr.menu text html latex example
pamr.plotcen text html latex example
pamr.plotcv text html latex example
pamr.plotcvprob text html latex example
pamr.plotfdr text html latex example
pamr.plotstrata text html latex example
pamr.plotsurvival text html latex example
pamr.predict text html latex example
pamr.predictmany text html latex example
pamr.surv.to.class2 text html latex example
pamr.test.errors.surv.compute text html latex example
pamr.to.excel text html latex
pamr.train text html latex example
** building package indices ...
* DONE (pamr)