Back to the "Multiple platform build/check report"
| Package 56/172 | OS | Arch | BUILD | CHECK | BUILD BIN |
geneplotter1.10.0Biocore Team | Linux (SUSE 9.2) | x86_64 | OK | OK | |
| Linux (SUSE 9.2) | i686 | OK | OK | ||
| Solaris 2.9 | sparc | OK | OK | ||
| Linux (SUSE 10.0) | x86_64 | OK | OK | ||
| Windows Server 2003 | x86_64 | OK | [ OK ] | OK |
| Package: geneplotter |
| Version: 1.10.0 |
| Command: D:\biocbld\1.8d\R\bin\R.exe CMD check geneplotter_1.10.0.tar.gz |
| RetCode: 0 |
| Time: 106.5 seconds |
| Status: OK |
| CheckDir: geneplotter.Rcheck |
| Warnings: 0 |
* checking for working latex ... OK * using log directory 'D:/biocbld/1.8d/Rpacks/geneplotter.Rcheck' * using Version 2.3.1 (2006-06-01) * checking for file 'geneplotter/DESCRIPTION' ... OK * this is package 'geneplotter' version '1.10.0' * checking package dependencies ... OK * checking if this is a source package ... OK * checking whether package 'geneplotter' can be installed ... OK * checking package directory ... OK * checking for portable file names ... OK * checking DESCRIPTION meta-information ... OK * checking top-level files ... OK * checking index information ... OK * checking package subdirectories ... OK * checking R files for syntax errors ... OK * checking R files for library.dynam ... OK * checking S3 generic/method consistency ... OK * checking replacement functions ... OK * checking foreign function calls ... OK * checking Rd files ... OK * checking for missing documentation entries ... OK * checking for code/documentation mismatches ... OK * checking Rd \usage sections ... OK * creating geneplotter-Ex.R ... OK * checking examples ... OK * checking package vignettes in 'inst/doc' ... OK * creating geneplotter-manual.tex ... OK * checking geneplotter-manual.tex ... OK
geneplotter.Rcheck/00install.out:
installing R.css in D:/biocbld/1.8d/Rpacks/geneplotter.Rcheck
---------- Making package geneplotter ------------
adding build stamp to DESCRIPTION
installing NAMESPACE file and metadata
installing R files
save image
Loading required package: annotate
Loading required package: Biobase
Loading required package: tools
Welcome to Bioconductor
Vignettes contain introductory material. To view, type
'openVignette()' or start with 'help(Biobase)'. For details
on reading vignettes, see the openVignette help page.
Loading required package: Biobase
KernSmooth 2.22 installed
Copyright M. P. Wand 1997
installing inst files
installing data files
installing man source files
installing indices
not zipping data
installing help
>>> Building/Updating help pages for package 'geneplotter'
Formats: text html latex example chm
GetColor text html latex example chm
Makesense text html latex example chm
alongChrom text html latex example chm
amplicon.plot text html latex example chm
cColor text html latex example chm
cPlot text html latex example chm
cScale text html latex example chm
classes text html latex chm
eset133a text html latex example chm
histStack text html latex example chm
identifyLines text html latex example chm
imageMap text html latex example chm
make.chromOrd text html latex example chm
multiecdf text html latex example chm
openHtmlPage text html latex example chm
plotChr text html latex example chm
plotExpressionGraph text html latex example chm
savepng text html latex example chm
smoothscatter text html latex example chm
Microsoft HTML Help Compiler 4.74.8702
Compiling d:\biocbld\1.8d\Rpacks\geneplotter.Rcheck\00_pkg_src\geneplotter\chm\geneplotter.chm
Compile time: 0 minutes, 0 seconds
20 Topics
85 Local links
5 Internet links
1 Graphic
Created d:\biocbld\1.8d\Rpacks\geneplotter.Rcheck\00_pkg_src\geneplotter\chm\geneplotter.chm, 51,737 bytes
Compression decreased file by 41,160 bytes.
adding MD5 sums
* DONE (geneplotter)