Back to the "Multiple platform build/check report"
| Package 56/172 | OS | Arch | BUILD | CHECK | BUILD BIN |
geneplotter1.10.0Biocore Team | Linux (SUSE 9.2) | x86_64 | OK | [ OK ] | |
| Linux (SUSE 9.2) | i686 | OK | OK | ||
| Solaris 2.9 | sparc | OK | OK | ||
| Linux (SUSE 10.0) | x86_64 | OK | OK | ||
| Windows Server 2003 | x86_64 | OK | OK | OK |
| Package: geneplotter |
| Version: 1.10.0 |
| Command: /loc/biocbuild/1.8d/R/bin/R CMD check geneplotter_1.10.0.tar.gz |
| RetCode: 0 |
| Time: 154.3 seconds |
| Status: OK |
| CheckDir: geneplotter.Rcheck |
| Warnings: 0 |
* checking for working latex ... OK * using log directory '/loc/biocbuild/1.8d/Rpacks/geneplotter.Rcheck' * using Version 2.3.1 (2006-06-01) * checking for file 'geneplotter/DESCRIPTION' ... OK * this is package 'geneplotter' version '1.10.0' * checking package dependencies ... OK * checking if this is a source package ... OK * checking whether package 'geneplotter' can be installed ... OK * checking package directory ... OK * checking for portable file names ... OK * checking for sufficient/correct file permissions ... OK * checking DESCRIPTION meta-information ... OK * checking top-level files ... OK * checking index information ... OK * checking package subdirectories ... OK * checking R files for syntax errors ... OK * checking R files for library.dynam ... OK * checking S3 generic/method consistency ... OK * checking replacement functions ... OK * checking foreign function calls ... OK * checking Rd files ... OK * checking for missing documentation entries ... OK * checking for code/documentation mismatches ... OK * checking Rd \usage sections ... OK * creating geneplotter-Ex.R ... OK * checking examples ... OK * checking package vignettes in 'inst/doc' ... OK * creating geneplotter-manual.tex ... OK * checking geneplotter-manual.tex ... OK
geneplotter.Rcheck/00install.out:
* Installing *source* package 'geneplotter' ...
** R
** data
** inst
** save image
Loading required package: annotate
Loading required package: Biobase
Loading required package: tools
Welcome to Bioconductor
Vignettes contain introductory material. To view, type
'openVignette()' or start with 'help(Biobase)'. For details
on reading vignettes, see the openVignette help page.
Loading required package: Biobase
KernSmooth 2.22 installed
Copyright M. P. Wand 1997
** help
>>> Building/Updating help pages for package 'geneplotter'
Formats: text html latex example
GetColor text html latex example
Makesense text html latex example
alongChrom text html latex example
amplicon.plot text html latex example
cColor text html latex example
cPlot text html latex example
cScale text html latex example
classes text html latex
eset133a text html latex example
histStack text html latex example
identifyLines text html latex example
imageMap text html latex example
make.chromOrd text html latex example
multiecdf text html latex example
openHtmlPage text html latex example
plotChr text html latex example
plotExpressionGraph text html latex example
savepng text html latex example
smoothscatter text html latex example
** building package indices ...
* DONE (geneplotter)