Back to the "Multiple platform build/check report"
| Package 51/172 | OS | Arch | BUILD | CHECK | BUILD BIN |
fdrame1.4.0Effi Kenigsberg | Linux (SUSE 9.2) | x86_64 | OK | OK | |
| Linux (SUSE 9.2) | i686 | OK | OK | ||
| Solaris 2.9 | sparc | OK | OK | ||
| Linux (SUSE 10.0) | x86_64 | OK | OK | ||
| Windows Server 2003 | x86_64 | OK | [ OK ] | OK |
| Package: fdrame |
| Version: 1.4.0 |
| Command: D:\biocbld\1.8d\R\bin\R.exe CMD check fdrame_1.4.0.tar.gz |
| RetCode: 0 |
| Time: 26.5 seconds |
| Status: OK |
| CheckDir: fdrame.Rcheck |
| Warnings: 0 |
* checking for working latex ... OK * using log directory 'D:/biocbld/1.8d/Rpacks/fdrame.Rcheck' * using Version 2.3.1 (2006-06-01) * checking for file 'fdrame/DESCRIPTION' ... OK * this is package 'fdrame' version '1.4.0' * checking package dependencies ... OK * checking if this is a source package ... OK * checking whether package 'fdrame' can be installed ... OK * checking package directory ... OK * checking for portable file names ... OK * checking DESCRIPTION meta-information ... OK * checking top-level files ... OK * checking index information ... OK * checking package subdirectories ... OK * checking R files for syntax errors ... OK * checking R files for library.dynam ... OK * checking S3 generic/method consistency ... OK * checking replacement functions ... OK * checking foreign function calls ... OK * checking Rd files ... OK * checking for missing documentation entries ... OK * checking for code/documentation mismatches ... OK * checking Rd \usage sections ... OK * checking for CRLF line endings in C/C++/Fortran sources/headers ... OK * creating fdrame-Ex.R ... OK * checking examples ... OK * checking package vignettes in 'inst/doc' ... OK * creating fdrame-manual.tex ... OK * checking fdrame-manual.tex ... OK
fdrame.Rcheck/00install.out:
installing R.css in D:/biocbld/1.8d/Rpacks/fdrame.Rcheck
---------- Making package fdrame ------------
adding build stamp to DESCRIPTION
making DLL ...
making fdr.d from fdr.c
gcc -Id:/biocbld/1.8d/R/include -Wall -O2 -c fdr.c -o fdr.o
windres --include-dir d:/biocbld/1.8d/R/include -i fdrame_res.rc -o fdrame_res.o
gcc -shared -s -o fdrame.dll fdrame.def fdr.o fdrame_res.o -Ld:/biocbld/1.8d/R/bin -lR
... DLL made
installing DLL
installing R files
installing inst files
installing data files
installing man source files
Warning message:
incomplete final line found by readLines on './man/fdrgui.Rd'
installing indices
not zipping data
installing help
>>> Building/Updating help pages for package 'fdrame'
Formats: text html latex example chm
design text html latex example chm
exp.arr text html latex example chm
fdr-internal text html latex chm
fdrgui text html latex example chm
fdrma text html latex example chm
Microsoft HTML Help Compiler 4.74.8702
Compiling d:\biocbld\1.8d\Rpacks\fdrame.Rcheck\00_pkg_src\fdrame\chm\fdrame.chm
Compile time: 0 minutes, 0 seconds
6 Topics
9 Local links
0 Internet links
1 Graphic
Created d:\biocbld\1.8d\Rpacks\fdrame.Rcheck\00_pkg_src\fdrame\chm\fdrame.chm, 21,481 bytes
Compression decreased file by 77 bytes.
preparing package fdrame for lazy loading
adding MD5 sums
* DONE (fdrame)