Back to the "Multiple platform build/check report"
| Package 51/172 | OS | Arch | BUILD | CHECK | BUILD BIN |
fdrame1.4.0Effi Kenigsberg | Linux (SUSE 9.2) | x86_64 | OK | [ OK ] | |
| Linux (SUSE 9.2) | i686 | OK | OK | ||
| Solaris 2.9 | sparc | OK | OK | ||
| Linux (SUSE 10.0) | x86_64 | OK | OK | ||
| Windows Server 2003 | x86_64 | OK | OK | OK |
| Package: fdrame |
| Version: 1.4.0 |
| Command: /loc/biocbuild/1.8d/R/bin/R CMD check fdrame_1.4.0.tar.gz |
| RetCode: 0 |
| Time: 23.9 seconds |
| Status: OK |
| CheckDir: fdrame.Rcheck |
| Warnings: 0 |
* checking for working latex ... OK * using log directory '/loc/biocbuild/1.8d/Rpacks/fdrame.Rcheck' * using Version 2.3.1 (2006-06-01) * checking for file 'fdrame/DESCRIPTION' ... OK * this is package 'fdrame' version '1.4.0' * checking package dependencies ... OK * checking if this is a source package ... OK * checking whether package 'fdrame' can be installed ... OK * checking package directory ... OK * checking for portable file names ... OK * checking for sufficient/correct file permissions ... OK * checking DESCRIPTION meta-information ... OK * checking top-level files ... OK * checking index information ... OK * checking package subdirectories ... OK * checking R files for syntax errors ... OK * checking R files for library.dynam ... OK * checking S3 generic/method consistency ... OK * checking replacement functions ... OK * checking foreign function calls ... OK * checking Rd files ... OK * checking for missing documentation entries ... OK * checking for code/documentation mismatches ... OK * checking Rd \usage sections ... OK * checking for CRLF line endings in C/C++/Fortran sources/headers ... OK * creating fdrame-Ex.R ... OK * checking examples ... OK * checking package vignettes in 'inst/doc' ... OK * creating fdrame-manual.tex ... OK * checking fdrame-manual.tex ... OK
fdrame.Rcheck/00install.out:
* Installing *source* package 'fdrame' ...
** libs
gcc -I/loc/biocbuild/1.8d/R/include -I/loc/biocbuild/1.8d/R/include -I/usr/local/include -fpic -g -O2 -std=gnu99 -Wall -c fdr.c -o fdr.o
gcc -shared -L/usr/local/lib64 -o fdrame.so fdr.o
** R
** data
** inst
** preparing package for lazy loading
** help
Warning message:
incomplete final line found by readLines on './man/fdrgui.Rd'
>>> Building/Updating help pages for package 'fdrame'
Formats: text html latex example
design text html latex example
exp.arr text html latex example
fdr-internal text html latex
fdrgui text html latex example
fdrma text html latex example
** building package indices ...
* DONE (fdrame)