Back to the "Multiple platform build/check report"
| Package 132/172 | OS | Arch | BUILD | CHECK | BUILD BIN |
Rdbi1.6.0Jianhua Zhang | Linux (SUSE 9.2) | x86_64 | OK | OK | |
| Linux (SUSE 9.2) | i686 | OK | OK | ||
| Solaris 2.9 | sparc | OK | OK | ||
| Linux (SUSE 10.0) | x86_64 | OK | OK | ||
| Windows Server 2003 | x86_64 | OK | [ OK ] | OK |
| Package: Rdbi |
| Version: 1.6.0 |
| Command: D:\biocbld\1.8d\R\bin\R.exe CMD check Rdbi_1.6.0.tar.gz |
| RetCode: 0 |
| Time: 23.5 seconds |
| Status: OK |
| CheckDir: Rdbi.Rcheck |
| Warnings: 0 |
* checking for working latex ... OK * using log directory 'D:/biocbld/1.8d/Rpacks/Rdbi.Rcheck' * using Version 2.3.1 (2006-06-01) * checking for file 'Rdbi/DESCRIPTION' ... OK * this is package 'Rdbi' version '1.6.0' * checking package dependencies ... OK * checking if this is a source package ... OK * checking whether package 'Rdbi' can be installed ... OK * checking package directory ... OK * checking for portable file names ... OK * checking DESCRIPTION meta-information ... OK * checking top-level files ... OK * checking index information ... OK * checking package subdirectories ... OK * checking R files for syntax errors ... OK * checking R files for library.dynam ... OK * checking S3 generic/method consistency ... OK * checking replacement functions ... OK * checking foreign function calls ... OK * checking Rd files ... OK * checking for missing documentation entries ... OK * checking for code/documentation mismatches ... OK * checking Rd \usage sections ... OK * creating Rdbi-Ex.R ... OK * checking examples ... OK * creating Rdbi-manual.tex ... OK * checking Rdbi-manual.tex ... OK
Rdbi.Rcheck/00install.out:
installing R.css in D:/biocbld/1.8d/Rpacks/Rdbi.Rcheck
---------- Making package Rdbi ------------
adding build stamp to DESCRIPTION
installing NAMESPACE file and metadata
installing R files
installing man source files
installing indices
installing help
>>> Building/Updating help pages for package 'Rdbi'
Formats: text html latex example chm
Rdbi-internal text html latex chm
dbAppendTable text html latex chm
dbClearResult text html latex chm
dbColumnInfo text html latex chm
dbConnect text html latex chm
dbConnectionInfo text html latex chm
dbDisconnect text html latex chm
dbGetQuery text html latex chm
dbGetResult text html latex chm
dbListTables text html latex chm
dbReadTable text html latex chm
dbReconnect text html latex chm
dbResultInfo text html latex chm
dbSendQuery text html latex chm
dbWriteTable text html latex chm
util text html latex example chm
Microsoft HTML Help Compiler 4.74.8702
Compiling d:\biocbld\1.8d\Rpacks\Rdbi.Rcheck\00_pkg_src\Rdbi\chm\Rdbi.chm
Compile time: 0 minutes, 0 seconds
17 Topics
57 Local links
16 Internet links
1 Graphic
Created d:\biocbld\1.8d\Rpacks\Rdbi.Rcheck\00_pkg_src\Rdbi\chm\Rdbi.chm, 28,685 bytes
Compression decreased file by 24,340 bytes.
adding MD5 sums
* DONE (Rdbi)