Back to the "Multiple platform build/check report"
| Package 132/172 | OS | Arch | BUILD | CHECK | BUILD BIN |
Rdbi1.6.0Jianhua Zhang | Linux (SUSE 9.2) | x86_64 | OK | [ OK ] | |
| Linux (SUSE 9.2) | i686 | OK | OK | ||
| Solaris 2.9 | sparc | OK | OK | ||
| Linux (SUSE 10.0) | x86_64 | OK | OK | ||
| Windows Server 2003 | x86_64 | OK | OK | OK |
| Package: Rdbi |
| Version: 1.6.0 |
| Command: /loc/biocbuild/1.8d/R/bin/R CMD check Rdbi_1.6.0.tar.gz |
| RetCode: 0 |
| Time: 24.8 seconds |
| Status: OK |
| CheckDir: Rdbi.Rcheck |
| Warnings: 0 |
* checking for working latex ... OK * using log directory '/loc/biocbuild/1.8d/Rpacks/Rdbi.Rcheck' * using Version 2.3.1 (2006-06-01) * checking for file 'Rdbi/DESCRIPTION' ... OK * this is package 'Rdbi' version '1.6.0' * checking package dependencies ... OK * checking if this is a source package ... OK * checking whether package 'Rdbi' can be installed ... OK * checking package directory ... OK * checking for portable file names ... OK * checking for sufficient/correct file permissions ... OK * checking DESCRIPTION meta-information ... OK * checking top-level files ... OK * checking index information ... OK * checking package subdirectories ... OK * checking R files for syntax errors ... OK * checking R files for library.dynam ... OK * checking S3 generic/method consistency ... OK * checking replacement functions ... OK * checking foreign function calls ... OK * checking Rd files ... OK * checking for missing documentation entries ... OK * checking for code/documentation mismatches ... OK * checking Rd \usage sections ... OK * creating Rdbi-Ex.R ... OK * checking examples ... OK * creating Rdbi-manual.tex ... OK * checking Rdbi-manual.tex ... OK
Rdbi.Rcheck/00install.out:
* Installing *source* package 'Rdbi' ...
** R
** help
>>> Building/Updating help pages for package 'Rdbi'
Formats: text html latex example
Rdbi-internal text html latex
dbAppendTable text html latex
dbClearResult text html latex
dbColumnInfo text html latex
dbConnect text html latex
dbConnectionInfo text html latex
dbDisconnect text html latex
dbGetQuery text html latex
dbGetResult text html latex
dbListTables text html latex
dbReadTable text html latex
dbReconnect text html latex
dbResultInfo text html latex
dbSendQuery text html latex
dbWriteTable text html latex
util text html latex example
** building package indices ...
* DONE (Rdbi)